BEGIN:VCALENDAR
VERSION:2.0
PRODID:-//The Saddle Light Center - ECPv6.15.17.1//NONSGML v1.0//EN
CALSCALE:GREGORIAN
METHOD:PUBLISH
X-WR-CALNAME:The Saddle Light Center
X-ORIGINAL-URL:https://thesaddlelightcenter.com
X-WR-CALDESC:Events for The Saddle Light Center
REFRESH-INTERVAL;VALUE=DURATION:PT1H
X-Robots-Tag:noindex
X-PUBLISHED-TTL:PT1H
BEGIN:VTIMEZONE
TZID:America/Chicago
BEGIN:DAYLIGHT
TZOFFSETFROM:-0600
TZOFFSETTO:-0500
TZNAME:CDT
DTSTART:20250309T080000
END:DAYLIGHT
BEGIN:STANDARD
TZOFFSETFROM:-0500
TZOFFSETTO:-0600
TZNAME:CST
DTSTART:20251102T070000
END:STANDARD
BEGIN:DAYLIGHT
TZOFFSETFROM:-0600
TZOFFSETTO:-0500
TZNAME:CDT
DTSTART:20260308T080000
END:DAYLIGHT
BEGIN:STANDARD
TZOFFSETFROM:-0500
TZOFFSETTO:-0600
TZNAME:CST
DTSTART:20261101T070000
END:STANDARD
BEGIN:DAYLIGHT
TZOFFSETFROM:-0600
TZOFFSETTO:-0500
TZNAME:CDT
DTSTART:20270314T080000
END:DAYLIGHT
BEGIN:STANDARD
TZOFFSETFROM:-0500
TZOFFSETTO:-0600
TZNAME:CST
DTSTART:20271107T070000
END:STANDARD
END:VTIMEZONE
BEGIN:VEVENT
DTSTART;VALUE=DATE:20260608
DTEND;VALUE=DATE:20260901
DTSTAMP:20260423T191248
CREATED:20260311T065107Z
LAST-MODIFIED:20260311T065117Z
UID:6658-1780876800-1788220799@thesaddlelightcenter.com
SUMMARY:Summer Session 2026
DESCRIPTION:
URL:https://thesaddlelightcenter.com/event/summer-session-2026/
CATEGORIES:Session Operating Season
ATTACH;FMTTYPE=image/jpeg:https://thesaddlelightcenter.com/wp-content/uploads/2015/09/RidersShowCase1520150530_0283-scaled.jpg
END:VEVENT
END:VCALENDAR