BEGIN:VCALENDAR
VERSION:2.0
PRODID:-//The Saddle Light Center - ECPv6.15.17.1//NONSGML v1.0//EN
CALSCALE:GREGORIAN
METHOD:PUBLISH
X-ORIGINAL-URL:https://thesaddlelightcenter.com
X-WR-CALDESC:Events for The Saddle Light Center
REFRESH-INTERVAL;VALUE=DURATION:PT1H
X-Robots-Tag:noindex
X-PUBLISHED-TTL:PT1H
BEGIN:VTIMEZONE
TZID:America/Chicago
BEGIN:DAYLIGHT
TZOFFSETFROM:-0600
TZOFFSETTO:-0500
TZNAME:CDT
DTSTART:20180311T080000
END:DAYLIGHT
BEGIN:STANDARD
TZOFFSETFROM:-0500
TZOFFSETTO:-0600
TZNAME:CST
DTSTART:20181104T070000
END:STANDARD
BEGIN:DAYLIGHT
TZOFFSETFROM:-0600
TZOFFSETTO:-0500
TZNAME:CDT
DTSTART:20190310T080000
END:DAYLIGHT
BEGIN:STANDARD
TZOFFSETFROM:-0500
TZOFFSETTO:-0600
TZNAME:CST
DTSTART:20191103T070000
END:STANDARD
BEGIN:DAYLIGHT
TZOFFSETFROM:-0600
TZOFFSETTO:-0500
TZNAME:CDT
DTSTART:20200308T080000
END:DAYLIGHT
BEGIN:STANDARD
TZOFFSETFROM:-0500
TZOFFSETTO:-0600
TZNAME:CST
DTSTART:20201101T070000
END:STANDARD
END:VTIMEZONE
BEGIN:VEVENT
DTSTART;TZID=America/Chicago:20191214T100000
DTEND;TZID=America/Chicago:20191214T130000
DTSTAMP:20260424T010103
CREATED:20190214T044827Z
LAST-MODIFIED:20190902T023037Z
UID:2609-1576317600-1576328400@thesaddlelightcenter.com
SUMMARY:Volunteer Training - December
DESCRIPTION:
URL:https://thesaddlelightcenter.com/event/volunteer-training-december/
CATEGORIES:New Volunteer Training,Training
ATTACH;FMTTYPE=image/jpeg:https://thesaddlelightcenter.com/wp-content/uploads/2015/09/RidersShowCase1520150530_0283-scaled.jpg
END:VEVENT
BEGIN:VEVENT
DTSTART;TZID=America/Chicago:20191123T100000
DTEND;TZID=America/Chicago:20191123T130000
DTSTAMP:20260424T010103
CREATED:20190214T044738Z
LAST-MODIFIED:20190902T022926Z
UID:2607-1574503200-1574514000@thesaddlelightcenter.com
SUMMARY:Volunteer Training - November
DESCRIPTION:
URL:https://thesaddlelightcenter.com/event/volunteer-training-november/
CATEGORIES:New Volunteer Training,Training
ATTACH;FMTTYPE=image/jpeg:https://thesaddlelightcenter.com/wp-content/uploads/2015/09/RidersShowCase1520150530_0283-scaled.jpg
END:VEVENT
BEGIN:VEVENT
DTSTART;TZID=America/Chicago:20191116T150000
DTEND;TZID=America/Chicago:20191116T160000
DTSTAMP:20260424T010103
CREATED:20190214T045452Z
LAST-MODIFIED:20190225T042806Z
UID:2617-1573916400-1573920000@thesaddlelightcenter.com
SUMMARY:Horse Handler Training - November
DESCRIPTION:
URL:https://thesaddlelightcenter.com/event/horse-handler-training-november/
CATEGORIES:Horse Handler Training,Training
ATTACH;FMTTYPE=image/jpeg:https://thesaddlelightcenter.com/wp-content/uploads/2015/09/RidersShowCase1520150530_0283-scaled.jpg
END:VEVENT
BEGIN:VEVENT
DTSTART;TZID=America/Chicago:20191029T100000
DTEND;TZID=America/Chicago:20191029T130000
DTSTAMP:20260424T010103
CREATED:20190214T044651Z
LAST-MODIFIED:20190902T022611Z
UID:2605-1572343200-1572354000@thesaddlelightcenter.com
SUMMARY:Volunteer Training - October
DESCRIPTION:
URL:https://thesaddlelightcenter.com/event/volunteer-training-october/
CATEGORIES:New Volunteer Training,Training
ATTACH;FMTTYPE=image/jpeg:https://thesaddlelightcenter.com/wp-content/uploads/2015/09/RidersShowCase1520150530_0283-scaled.jpg
END:VEVENT
BEGIN:VEVENT
DTSTART;TZID=America/Chicago:20190921T100000
DTEND;TZID=America/Chicago:20190921T130000
DTSTAMP:20260424T010103
CREATED:20190214T044552Z
LAST-MODIFIED:20190902T023121Z
UID:2603-1569060000-1569070800@thesaddlelightcenter.com
SUMMARY:Volunteer Training - September
DESCRIPTION:
URL:https://thesaddlelightcenter.com/event/volunteer-training-september/
CATEGORIES:New Volunteer Training,Training
ATTACH;FMTTYPE=image/jpeg:https://thesaddlelightcenter.com/wp-content/uploads/2015/09/RidersShowCase1520150530_0283-scaled.jpg
END:VEVENT
BEGIN:VEVENT
DTSTART;TZID=America/Chicago:20190914T150000
DTEND;TZID=America/Chicago:20190914T160000
DTSTAMP:20260424T010103
CREATED:20190214T045402Z
LAST-MODIFIED:20190225T042806Z
UID:2615-1568473200-1568476800@thesaddlelightcenter.com
SUMMARY:Horse Handler Training - September
DESCRIPTION:
URL:https://thesaddlelightcenter.com/event/horse-handler-training-september/
CATEGORIES:Horse Handler Training,Training
ATTACH;FMTTYPE=image/jpeg:https://thesaddlelightcenter.com/wp-content/uploads/2015/09/RidersShowCase1520150530_0283-scaled.jpg
END:VEVENT
BEGIN:VEVENT
DTSTART;TZID=America/Chicago:20190807T173000
DTEND;TZID=America/Chicago:20190807T210000
DTSTAMP:20260424T010103
CREATED:20190225T040957Z
LAST-MODIFIED:20190225T042703Z
UID:2672-1565199000-1565211600@thesaddlelightcenter.com
SUMMARY:Volunteer Training - August
DESCRIPTION:
URL:https://thesaddlelightcenter.com/event/volunteer-training-august-2/
CATEGORIES:New Volunteer Training,Training,Volunteer
ATTACH;FMTTYPE=image/jpeg:https://thesaddlelightcenter.com/wp-content/uploads/2015/09/RidersShowCase1520150530_0283-scaled.jpg
END:VEVENT
BEGIN:VEVENT
DTSTART;TZID=America/Chicago:20190807T143000
DTEND;TZID=America/Chicago:20190807T180000
DTSTAMP:20260424T010103
CREATED:20190214T044436Z
LAST-MODIFIED:20190225T042855Z
UID:2601-1565188200-1565200800@thesaddlelightcenter.com
SUMMARY:Volunteer Training - August
DESCRIPTION:
URL:https://thesaddlelightcenter.com/event/volunteer-training-august/
CATEGORIES:New Volunteer Training,Training,Volunteer
ATTACH;FMTTYPE=image/jpeg:https://thesaddlelightcenter.com/wp-content/uploads/2015/09/RidersShowCase1520150530_0283-scaled.jpg
END:VEVENT
BEGIN:VEVENT
DTSTART;TZID=America/Chicago:20190710T173000
DTEND;TZID=America/Chicago:20190710T210000
DTSTAMP:20260424T010103
CREATED:20190225T041145Z
LAST-MODIFIED:20190225T042702Z
UID:2674-1562779800-1562792400@thesaddlelightcenter.com
SUMMARY:Volunteer Training - July
DESCRIPTION:
URL:https://thesaddlelightcenter.com/event/volunteer-training-july-2/
CATEGORIES:New Volunteer Training,Training,Volunteer
ATTACH;FMTTYPE=image/jpeg:https://thesaddlelightcenter.com/wp-content/uploads/2015/09/RidersShowCase1520150530_0283-scaled.jpg
END:VEVENT
BEGIN:VEVENT
DTSTART;TZID=America/Chicago:20190710T143000
DTEND;TZID=America/Chicago:20190710T180000
DTSTAMP:20260424T010103
CREATED:20190214T044349Z
LAST-MODIFIED:20190225T042855Z
UID:2599-1562769000-1562781600@thesaddlelightcenter.com
SUMMARY:Volunteer Training - July
DESCRIPTION:
URL:https://thesaddlelightcenter.com/event/volunteer-training-july/
CATEGORIES:New Volunteer Training,Training,Volunteer
ATTACH;FMTTYPE=image/jpeg:https://thesaddlelightcenter.com/wp-content/uploads/2015/09/RidersShowCase1520150530_0283-scaled.jpg
END:VEVENT
BEGIN:VEVENT
DTSTART;TZID=America/Chicago:20190615T150000
DTEND;TZID=America/Chicago:20190615T160000
DTSTAMP:20260424T010103
CREATED:20190214T045221Z
LAST-MODIFIED:20190225T042807Z
UID:2613-1560610800-1560614400@thesaddlelightcenter.com
SUMMARY:Horse Handler Training - June
DESCRIPTION:
URL:https://thesaddlelightcenter.com/event/horse-handler-training-june/
CATEGORIES:Horse Handler Training,Training
ATTACH;FMTTYPE=image/jpeg:https://thesaddlelightcenter.com/wp-content/uploads/2015/09/RidersShowCase1520150530_0283-scaled.jpg
END:VEVENT
BEGIN:VEVENT
DTSTART;TZID=America/Chicago:20190605T173000
DTEND;TZID=America/Chicago:20190605T210000
DTSTAMP:20260424T010103
CREATED:20190225T040724Z
LAST-MODIFIED:20190225T042703Z
UID:2670-1559755800-1559768400@thesaddlelightcenter.com
SUMMARY:Volunteer Training - June
DESCRIPTION:
URL:https://thesaddlelightcenter.com/event/volunteer-training-june-2/
CATEGORIES:New Volunteer Training,Training,Volunteer
ATTACH;FMTTYPE=image/jpeg:https://thesaddlelightcenter.com/wp-content/uploads/2015/09/RidersShowCase1520150530_0283-scaled.jpg
END:VEVENT
BEGIN:VEVENT
DTSTART;TZID=America/Chicago:20190605T143000
DTEND;TZID=America/Chicago:20190605T180000
DTSTAMP:20260424T010103
CREATED:20190214T044241Z
LAST-MODIFIED:20190225T042855Z
UID:2597-1559745000-1559757600@thesaddlelightcenter.com
SUMMARY:Volunteer Training - June
DESCRIPTION:
URL:https://thesaddlelightcenter.com/event/volunteer-training-june/
CATEGORIES:New Volunteer Training,Training,Volunteer
ATTACH;FMTTYPE=image/jpeg:https://thesaddlelightcenter.com/wp-content/uploads/2015/09/RidersShowCase1520150530_0283-scaled.jpg
END:VEVENT
BEGIN:VEVENT
DTSTART;TZID=America/Chicago:20190501T173000
DTEND;TZID=America/Chicago:20190501T210000
DTSTAMP:20260424T010103
CREATED:20190225T040541Z
LAST-MODIFIED:20190225T042703Z
UID:2668-1556731800-1556744400@thesaddlelightcenter.com
SUMMARY:Volunteer Training - May
DESCRIPTION:
URL:https://thesaddlelightcenter.com/event/volunteer-training-may-2/
CATEGORIES:New Volunteer Training,Training,Volunteer
ATTACH;FMTTYPE=image/jpeg:https://thesaddlelightcenter.com/wp-content/uploads/2015/09/RidersShowCase1520150530_0283-scaled.jpg
END:VEVENT
BEGIN:VEVENT
DTSTART;TZID=America/Chicago:20190501T143000
DTEND;TZID=America/Chicago:20190501T180000
DTSTAMP:20260424T010103
CREATED:20190214T044143Z
LAST-MODIFIED:20190225T042855Z
UID:2595-1556721000-1556733600@thesaddlelightcenter.com
SUMMARY:Volunteer Training - May
DESCRIPTION:
URL:https://thesaddlelightcenter.com/event/volunteer-training-may/
CATEGORIES:New Volunteer Training,Training,Volunteer
ATTACH;FMTTYPE=image/jpeg:https://thesaddlelightcenter.com/wp-content/uploads/2015/09/RidersShowCase1520150530_0283-scaled.jpg
END:VEVENT
BEGIN:VEVENT
DTSTART;TZID=America/Chicago:20190403T173000
DTEND;TZID=America/Chicago:20190403T210000
DTSTAMP:20260424T010103
CREATED:20190225T040326Z
LAST-MODIFIED:20190225T042703Z
UID:2666-1554312600-1554325200@thesaddlelightcenter.com
SUMMARY:Volunteer Training - April
DESCRIPTION:
URL:https://thesaddlelightcenter.com/event/volunteer-training-april-2/
CATEGORIES:New Volunteer Training,Training,Volunteer
ATTACH;FMTTYPE=image/jpeg:https://thesaddlelightcenter.com/wp-content/uploads/2015/09/RidersShowCase1520150530_0283-scaled.jpg
END:VEVENT
BEGIN:VEVENT
DTSTART;TZID=America/Chicago:20190403T143000
DTEND;TZID=America/Chicago:20190403T180000
DTSTAMP:20260424T010103
CREATED:20190214T044038Z
LAST-MODIFIED:20190225T042855Z
UID:2593-1554301800-1554314400@thesaddlelightcenter.com
SUMMARY:Volunteer Training - April
DESCRIPTION:
URL:https://thesaddlelightcenter.com/event/volunteer-training-april/
CATEGORIES:New Volunteer Training,Training,Volunteer
ATTACH;FMTTYPE=image/jpeg:https://thesaddlelightcenter.com/wp-content/uploads/2015/09/RidersShowCase1520150530_0283-scaled.jpg
END:VEVENT
BEGIN:VEVENT
DTSTART;TZID=America/Chicago:20190309T150000
DTEND;TZID=America/Chicago:20190309T160000
DTSTAMP:20260424T010103
CREATED:20190214T045121Z
LAST-MODIFIED:20190225T042807Z
UID:2611-1552143600-1552147200@thesaddlelightcenter.com
SUMMARY:Horse Handler Training - March
DESCRIPTION:
URL:https://thesaddlelightcenter.com/event/horse-handler-training-march/
CATEGORIES:Horse Handler Training,Training
ATTACH;FMTTYPE=image/jpeg:https://thesaddlelightcenter.com/wp-content/uploads/2015/09/RidersShowCase1520150530_0283-scaled.jpg
END:VEVENT
BEGIN:VEVENT
DTSTART;TZID=America/Chicago:20190306T173000
DTEND;TZID=America/Chicago:20190306T210000
DTSTAMP:20260424T010103
CREATED:20190225T040051Z
LAST-MODIFIED:20190225T042703Z
UID:2664-1551893400-1551906000@thesaddlelightcenter.com
SUMMARY:Volunteer Training - March
DESCRIPTION:
URL:https://thesaddlelightcenter.com/event/volunteer-training-march-2/
CATEGORIES:New Volunteer Training,Training,Volunteer
ATTACH;FMTTYPE=image/jpeg:https://thesaddlelightcenter.com/wp-content/uploads/2015/09/RidersShowCase1520150530_0283-scaled.jpg
END:VEVENT
BEGIN:VEVENT
DTSTART;TZID=America/Chicago:20190306T143000
DTEND;TZID=America/Chicago:20190306T180000
DTSTAMP:20260424T010103
CREATED:20190214T043934Z
LAST-MODIFIED:20190225T042855Z
UID:2591-1551882600-1551895200@thesaddlelightcenter.com
SUMMARY:Volunteer Training - March
DESCRIPTION:
URL:https://thesaddlelightcenter.com/event/volunteer-training-march/
CATEGORIES:New Volunteer Training,Training,Volunteer
ATTACH;FMTTYPE=image/jpeg:https://thesaddlelightcenter.com/wp-content/uploads/2015/09/RidersShowCase1520150530_0283-scaled.jpg
END:VEVENT
END:VCALENDAR