BEGIN:VCALENDAR
VERSION:2.0
PRODID:-//The Saddle Light Center - ECPv6.15.17.1//NONSGML v1.0//EN
CALSCALE:GREGORIAN
METHOD:PUBLISH
X-WR-CALNAME:The Saddle Light Center
X-ORIGINAL-URL:https://thesaddlelightcenter.com
X-WR-CALDESC:Events for The Saddle Light Center
REFRESH-INTERVAL;VALUE=DURATION:PT1H
X-Robots-Tag:noindex
X-PUBLISHED-TTL:PT1H
BEGIN:VTIMEZONE
TZID:America/Chicago
BEGIN:DAYLIGHT
TZOFFSETFROM:-0600
TZOFFSETTO:-0500
TZNAME:CDT
DTSTART:20230312T080000
END:DAYLIGHT
BEGIN:STANDARD
TZOFFSETFROM:-0500
TZOFFSETTO:-0600
TZNAME:CST
DTSTART:20231105T070000
END:STANDARD
BEGIN:DAYLIGHT
TZOFFSETFROM:-0600
TZOFFSETTO:-0500
TZNAME:CDT
DTSTART:20240310T080000
END:DAYLIGHT
BEGIN:STANDARD
TZOFFSETFROM:-0500
TZOFFSETTO:-0600
TZNAME:CST
DTSTART:20241103T070000
END:STANDARD
BEGIN:DAYLIGHT
TZOFFSETFROM:-0600
TZOFFSETTO:-0500
TZNAME:CDT
DTSTART:20250309T080000
END:DAYLIGHT
BEGIN:STANDARD
TZOFFSETFROM:-0500
TZOFFSETTO:-0600
TZNAME:CST
DTSTART:20251102T070000
END:STANDARD
BEGIN:DAYLIGHT
TZOFFSETFROM:-0600
TZOFFSETTO:-0500
TZNAME:CDT
DTSTART:20260308T080000
END:DAYLIGHT
BEGIN:STANDARD
TZOFFSETFROM:-0500
TZOFFSETTO:-0600
TZNAME:CST
DTSTART:20261101T070000
END:STANDARD
BEGIN:DAYLIGHT
TZOFFSETFROM:-0600
TZOFFSETTO:-0500
TZNAME:CDT
DTSTART:20270314T080000
END:DAYLIGHT
BEGIN:STANDARD
TZOFFSETFROM:-0500
TZOFFSETTO:-0600
TZNAME:CST
DTSTART:20271107T070000
END:STANDARD
END:VTIMEZONE
BEGIN:VEVENT
DTSTART;TZID=America/Chicago:20260321T100000
DTEND;TZID=America/Chicago:20260321T110000
DTSTAMP:20260423T155210
CREATED:20251128T194606Z
LAST-MODIFIED:20251128T194606Z
UID:6543-1774087200-1774090800@thesaddlelightcenter.com
SUMMARY:Volunteer Training – March 2026
DESCRIPTION:Please join us to learn the ropes of being a volunteer at the Saddle Light Center. \nLearn More: https://thesaddlelightcenter.com/how-to-help/volunteer/  \nQuestions? volcoor@sbcglobal.net
URL:https://thesaddlelightcenter.com/event/volunteer-training-march-2026/
LOCATION:Retama Equestrian Center
CATEGORIES:New Volunteer Training
ATTACH;FMTTYPE=image/jpeg:https://thesaddlelightcenter.com/wp-content/uploads/2015/09/RidersShowCase1520150530_0283-scaled.jpg
END:VEVENT
BEGIN:VEVENT
DTSTART;VALUE=DATE:20260309
DTEND;VALUE=DATE:20260314
DTSTAMP:20260423T155210
CREATED:20260311T070100Z
LAST-MODIFIED:20260311T070124Z
UID:6668-1773014400-1773446399@thesaddlelightcenter.com
SUMMARY:Spring Break 2026
DESCRIPTION:
URL:https://thesaddlelightcenter.com/event/spring-break-2026/
CATEGORIES:Break
ATTACH;FMTTYPE=image/jpeg:https://thesaddlelightcenter.com/wp-content/uploads/2015/09/RidersShowCase1520150530_0283-scaled.jpg
END:VEVENT
BEGIN:VEVENT
DTSTART;TZID=America/Chicago:20260221T100000
DTEND;TZID=America/Chicago:20260221T110000
DTSTAMP:20260423T155210
CREATED:20251128T194236Z
LAST-MODIFIED:20251128T194236Z
UID:6541-1771668000-1771671600@thesaddlelightcenter.com
SUMMARY:Volunteer Training – February 2026
DESCRIPTION:Please join us to learn the ropes of being a volunteer at the Saddle Light Center. \nLearn More: https://thesaddlelightcenter.com/how-to-help/volunteer/  \nQuestions? volcoor@sbcglobal.net
URL:https://thesaddlelightcenter.com/event/volunteer-training-february-2026/
LOCATION:Retama Equestrian Center
CATEGORIES:New Volunteer Training
ATTACH;FMTTYPE=image/jpeg:https://thesaddlelightcenter.com/wp-content/uploads/2015/09/RidersShowCase1520150530_0283-scaled.jpg
END:VEVENT
BEGIN:VEVENT
DTSTART;TZID=America/Chicago:20260110T100000
DTEND;TZID=America/Chicago:20260110T110000
DTSTAMP:20260423T155210
CREATED:20251128T194010Z
LAST-MODIFIED:20251128T194010Z
UID:6539-1768039200-1768042800@thesaddlelightcenter.com
SUMMARY:Volunteer Training – January 2026
DESCRIPTION:Please join us to learn the ropes of being a volunteer at the Saddle Light Center. \nLearn More: https://thesaddlelightcenter.com/how-to-help/volunteer/  \nQuestions? volcoor@sbcglobal.net
URL:https://thesaddlelightcenter.com/event/volunteer-training-january-2026/
LOCATION:Retama Equestrian Center
CATEGORIES:New Volunteer Training
ATTACH;FMTTYPE=image/jpeg:https://thesaddlelightcenter.com/wp-content/uploads/2015/09/RidersShowCase1520150530_0283-scaled.jpg
END:VEVENT
BEGIN:VEVENT
DTSTART;TZID=America/Chicago:20251213T100000
DTEND;TZID=America/Chicago:20251213T110000
DTSTAMP:20260423T155210
CREATED:20241204T032625Z
LAST-MODIFIED:20241204T032625Z
UID:6139-1765620000-1765623600@thesaddlelightcenter.com
SUMMARY:Volunteer Training – December 2025
DESCRIPTION:Please join us to learn the ropes of being a volunteer at the Saddle Light Center. \nLearn More: https://thesaddlelightcenter.com/how-to-help/volunteer/  \nQuestions? volcoor@sbcglobal.net
URL:https://thesaddlelightcenter.com/event/volunteer-training-december-2025/
LOCATION:Retama Equestrian Center
CATEGORIES:New Volunteer Training
ATTACH;FMTTYPE=image/jpeg:https://thesaddlelightcenter.com/wp-content/uploads/2015/09/RidersShowCase1520150530_0283-scaled.jpg
END:VEVENT
BEGIN:VEVENT
DTSTART;VALUE=DATE:20251201
DTEND;VALUE=DATE:20260307
DTSTAMP:20260423T155210
CREATED:20241204T034810Z
LAST-MODIFIED:20260311T064051Z
UID:6159-1764547200-1772841599@thesaddlelightcenter.com
SUMMARY:Winter Session 2025
DESCRIPTION:
URL:https://thesaddlelightcenter.com/event/winter-session-2025/
CATEGORIES:Session Operating Season
ATTACH;FMTTYPE=image/jpeg:https://thesaddlelightcenter.com/wp-content/uploads/2015/09/RidersShowCase1520150530_0283-scaled.jpg
END:VEVENT
BEGIN:VEVENT
DTSTART;TZID=America/Chicago:20251115T100000
DTEND;TZID=America/Chicago:20251115T110000
DTSTAMP:20260423T155210
CREATED:20241204T032440Z
LAST-MODIFIED:20241204T032440Z
UID:6137-1763200800-1763204400@thesaddlelightcenter.com
SUMMARY:Volunteer Training – November 2025
DESCRIPTION:Please join us to learn the ropes of being a volunteer at the Saddle Light Center. \nLearn More: https://thesaddlelightcenter.com/how-to-help/volunteer/  \nQuestions? volcoor@sbcglobal.net
URL:https://thesaddlelightcenter.com/event/volunteer-training-november-2025/
LOCATION:Retama Equestrian Center
CATEGORIES:New Volunteer Training
ATTACH;FMTTYPE=image/jpeg:https://thesaddlelightcenter.com/wp-content/uploads/2015/09/RidersShowCase1520150530_0283-scaled.jpg
END:VEVENT
BEGIN:VEVENT
DTSTART;TZID=America/Chicago:20251018T100000
DTEND;TZID=America/Chicago:20251018T110000
DTSTAMP:20260423T155210
CREATED:20241204T032312Z
LAST-MODIFIED:20241204T032312Z
UID:6135-1760781600-1760785200@thesaddlelightcenter.com
SUMMARY:Volunteer Training – October 2025
DESCRIPTION:Please join us to learn the ropes of being a volunteer at the Saddle Light Center. \nLearn More: https://thesaddlelightcenter.com/how-to-help/volunteer/  \nQuestions? volcoor@sbcglobal.net
URL:https://thesaddlelightcenter.com/event/volunteer-training-october-2025/
LOCATION:Retama Equestrian Center
CATEGORIES:New Volunteer Training
ATTACH;FMTTYPE=image/jpeg:https://thesaddlelightcenter.com/wp-content/uploads/2015/09/RidersShowCase1520150530_0283-scaled.jpg
END:VEVENT
BEGIN:VEVENT
DTSTART;TZID=America/Chicago:20250913T100000
DTEND;TZID=America/Chicago:20250913T110000
DTSTAMP:20260423T155210
CREATED:20241204T032129Z
LAST-MODIFIED:20241204T032129Z
UID:6133-1757757600-1757761200@thesaddlelightcenter.com
SUMMARY:Volunteer Training – September 2025
DESCRIPTION:Please join us to learn the ropes of being a volunteer at the Saddle Light Center. \nLearn More: https://thesaddlelightcenter.com/how-to-help/volunteer/  \nQuestions? volcoor@sbcglobal.net
URL:https://thesaddlelightcenter.com/event/volunteer-training-september-2025/
LOCATION:Retama Equestrian Center
CATEGORIES:New Volunteer Training
ATTACH;FMTTYPE=image/jpeg:https://thesaddlelightcenter.com/wp-content/uploads/2015/09/RidersShowCase1520150530_0283-scaled.jpg
END:VEVENT
BEGIN:VEVENT
DTSTART;VALUE=DATE:20251124
DTEND;VALUE=DATE:20251129
DTSTAMP:20260423T155210
CREATED:20241204T033436Z
LAST-MODIFIED:20241204T033436Z
UID:6147-1763942400-1764374399@thesaddlelightcenter.com
SUMMARY:Thanksgiving Break 2025
DESCRIPTION:
URL:https://thesaddlelightcenter.com/event/thanksgiving-break-2025/
CATEGORIES:Break
ATTACH;FMTTYPE=image/jpeg:https://thesaddlelightcenter.com/wp-content/uploads/2015/09/RidersShowCase1520150530_0283-scaled.jpg
END:VEVENT
BEGIN:VEVENT
DTSTART;VALUE=DATE:20250818
DTEND;VALUE=DATE:20250902
DTSTAMP:20260423T155210
CREATED:20241204T033227Z
LAST-MODIFIED:20241204T033227Z
UID:6145-1755475200-1756771199@thesaddlelightcenter.com
SUMMARY:End-of-Summer Break 2025
DESCRIPTION:
URL:https://thesaddlelightcenter.com/event/end-of-summer-break-2025/
CATEGORIES:Break
ATTACH;FMTTYPE=image/jpeg:https://thesaddlelightcenter.com/wp-content/uploads/2015/09/RidersShowCase1520150530_0283-scaled.jpg
END:VEVENT
BEGIN:VEVENT
DTSTART;TZID=America/Chicago:20250816T100000
DTEND;TZID=America/Chicago:20250816T110000
DTSTAMP:20260423T155210
CREATED:20241204T031927Z
LAST-MODIFIED:20241204T031927Z
UID:6131-1755338400-1755342000@thesaddlelightcenter.com
SUMMARY:Volunteer Training – August 2025
DESCRIPTION:Please join us to learn the ropes of being a volunteer at the Saddle Light Center. \nLearn More: https://thesaddlelightcenter.com/how-to-help/volunteer/  \nQuestions? volcoor@sbcglobal.net
URL:https://thesaddlelightcenter.com/event/volunteer-training-august-2025/
LOCATION:Retama Equestrian Center
CATEGORIES:New Volunteer Training
ATTACH;FMTTYPE=image/jpeg:https://thesaddlelightcenter.com/wp-content/uploads/2015/09/RidersShowCase1520150530_0283-scaled.jpg
END:VEVENT
BEGIN:VEVENT
DTSTART;TZID=America/Chicago:20250712T100000
DTEND;TZID=America/Chicago:20250712T110000
DTSTAMP:20260423T155210
CREATED:20241204T031749Z
LAST-MODIFIED:20241204T031749Z
UID:6129-1752314400-1752318000@thesaddlelightcenter.com
SUMMARY:Volunteer Training – July 2025
DESCRIPTION:Please join us to learn the ropes of being a volunteer at the Saddle Light Center. \nLearn More: https://thesaddlelightcenter.com/how-to-help/volunteer/  \nQuestions? volcoor@sbcglobal.net
URL:https://thesaddlelightcenter.com/event/volunteer-training-july-2025/
LOCATION:Retama Equestrian Center
CATEGORIES:New Volunteer Training
ATTACH;FMTTYPE=image/jpeg:https://thesaddlelightcenter.com/wp-content/uploads/2015/09/RidersShowCase1520150530_0283-scaled.jpg
END:VEVENT
BEGIN:VEVENT
DTSTART;TZID=America/Chicago:20250621T100000
DTEND;TZID=America/Chicago:20250621T110000
DTSTAMP:20260423T155210
CREATED:20241204T031621Z
LAST-MODIFIED:20250522T170525Z
UID:6127-1750500000-1750503600@thesaddlelightcenter.com
SUMMARY:Volunteer Training – June 2025
DESCRIPTION:Please join us to learn the ropes of being a volunteer at the Saddle Light Center. \nLearn More: https://thesaddlelightcenter.com/how-to-help/volunteer/  \nQuestions? volcoor@sbcglobal.net
URL:https://thesaddlelightcenter.com/event/volunteer-training-june-2025/
LOCATION:Retama Equestrian Center
CATEGORIES:New Volunteer Training
ATTACH;FMTTYPE=image/jpeg:https://thesaddlelightcenter.com/wp-content/uploads/2015/09/RidersShowCase1520150530_0283-scaled.jpg
END:VEVENT
BEGIN:VEVENT
DTSTART;VALUE=DATE:20250519
DTEND;VALUE=DATE:20250601
DTSTAMP:20260423T155210
CREATED:20241204T033018Z
LAST-MODIFIED:20241204T033018Z
UID:6143-1747612800-1748735999@thesaddlelightcenter.com
SUMMARY:End-of-School Break 2025
DESCRIPTION:
URL:https://thesaddlelightcenter.com/event/end-of-school-break-2025/
CATEGORIES:Break
ATTACH;FMTTYPE=image/jpeg:https://thesaddlelightcenter.com/wp-content/uploads/2015/09/RidersShowCase1520150530_0283-scaled.jpg
END:VEVENT
BEGIN:VEVENT
DTSTART;TZID=America/Chicago:20250517T100000
DTEND;TZID=America/Chicago:20250517T110000
DTSTAMP:20260423T155210
CREATED:20241204T031438Z
LAST-MODIFIED:20241204T031438Z
UID:6125-1747476000-1747479600@thesaddlelightcenter.com
SUMMARY:Volunteer Training – May 2025
DESCRIPTION:Please join us to learn the ropes of being a volunteer at the Saddle Light Center. \nLearn More: https://thesaddlelightcenter.com/how-to-help/volunteer/  \nQuestions? volcoor@sbcglobal.net
URL:https://thesaddlelightcenter.com/event/volunteer-training-may-2025/
LOCATION:Retama Equestrian Center
CATEGORIES:New Volunteer Training
ATTACH;FMTTYPE=image/jpeg:https://thesaddlelightcenter.com/wp-content/uploads/2015/09/RidersShowCase1520150530_0283-scaled.jpg
END:VEVENT
BEGIN:VEVENT
DTSTART;TZID=America/Chicago:20250412T100000
DTEND;TZID=America/Chicago:20250412T110000
DTSTAMP:20260423T155210
CREATED:20241204T031250Z
LAST-MODIFIED:20241204T031250Z
UID:6123-1744452000-1744455600@thesaddlelightcenter.com
SUMMARY:Volunteer Training – April 2025
DESCRIPTION:Please join us to learn the ropes of being a volunteer at the Saddle Light Center. \nLearn More: https://thesaddlelightcenter.com/how-to-help/volunteer/  \nQuestions? volcoor@sbcglobal.net
URL:https://thesaddlelightcenter.com/event/volunteer-training-april-2025/
LOCATION:Retama Equestrian Center
CATEGORIES:New Volunteer Training
ATTACH;FMTTYPE=image/jpeg:https://thesaddlelightcenter.com/wp-content/uploads/2015/09/RidersShowCase1520150530_0283-scaled.jpg
END:VEVENT
BEGIN:VEVENT
DTSTART;TZID=America/Chicago:20250308T100000
DTEND;TZID=America/Chicago:20250308T110000
DTSTAMP:20260423T155210
CREATED:20241204T031115Z
LAST-MODIFIED:20241204T031115Z
UID:6121-1741428000-1741431600@thesaddlelightcenter.com
SUMMARY:Volunteer Training – March 2025
DESCRIPTION:Please join us to learn the ropes of being a volunteer at the Saddle Light Center. \nLearn More: https://thesaddlelightcenter.com/how-to-help/volunteer/  \nQuestions? volcoor@sbcglobal.net
URL:https://thesaddlelightcenter.com/event/volunteer-training-march-2025/
LOCATION:Retama Equestrian Center
CATEGORIES:New Volunteer Training
ATTACH;FMTTYPE=image/jpeg:https://thesaddlelightcenter.com/wp-content/uploads/2015/09/RidersShowCase1520150530_0283-scaled.jpg
END:VEVENT
BEGIN:VEVENT
DTSTART;TZID=America/Chicago:20250215T100000
DTEND;TZID=America/Chicago:20250215T110000
DTSTAMP:20260423T155210
CREATED:20241204T030926Z
LAST-MODIFIED:20241204T030926Z
UID:6119-1739613600-1739617200@thesaddlelightcenter.com
SUMMARY:Volunteer Training – February 2025
DESCRIPTION:Please join us to learn the ropes of being a volunteer at the Saddle Light Center. \nLearn More: https://thesaddlelightcenter.com/how-to-help/volunteer/  \nQuestions? volcoor@sbcglobal.net
URL:https://thesaddlelightcenter.com/event/volunteer-training-february-2025/
LOCATION:Retama Equestrian Center
CATEGORIES:New Volunteer Training
ATTACH;FMTTYPE=image/jpeg:https://thesaddlelightcenter.com/wp-content/uploads/2015/09/RidersShowCase1520150530_0283-scaled.jpg
END:VEVENT
BEGIN:VEVENT
DTSTART;TZID=America/Chicago:20250111T100000
DTEND;TZID=America/Chicago:20250111T110000
DTSTAMP:20260423T155210
CREATED:20241204T030648Z
LAST-MODIFIED:20241204T030733Z
UID:6116-1736589600-1736593200@thesaddlelightcenter.com
SUMMARY:Volunteer Training – January 2025
DESCRIPTION:Please join us to learn the ropes of being a volunteer at the Saddle Light Center. \nLearn More: https://thesaddlelightcenter.com/how-to-help/volunteer/  \nQuestions? volcoor@sbcglobal.net
URL:https://thesaddlelightcenter.com/event/volunteer-training-january-2025/
LOCATION:Retama Equestrian Center
CATEGORIES:New Volunteer Training
ATTACH;FMTTYPE=image/jpeg:https://thesaddlelightcenter.com/wp-content/uploads/2015/09/RidersShowCase1520150530_0283-scaled.jpg
END:VEVENT
BEGIN:VEVENT
DTSTART;VALUE=DATE:20241223
DTEND;VALUE=DATE:20250104
DTSTAMP:20260423T155210
CREATED:20240731T053057Z
LAST-MODIFIED:20250129T054744Z
UID:5898-1734912000-1735948799@thesaddlelightcenter.com
SUMMARY:Winter Holiday Break 2024
DESCRIPTION:
URL:https://thesaddlelightcenter.com/event/winter-holiday-break-2024/
CATEGORIES:Break
ATTACH;FMTTYPE=image/jpeg:https://thesaddlelightcenter.com/wp-content/uploads/2015/09/RidersShowCase1520150530_0283-scaled.jpg
END:VEVENT
BEGIN:VEVENT
DTSTART;TZID=America/Chicago:20241214T100000
DTEND;TZID=America/Chicago:20241214T110000
DTSTAMP:20260423T155210
CREATED:20221220T033550Z
LAST-MODIFIED:20240311T184547Z
UID:5270-1734170400-1734174000@thesaddlelightcenter.com
SUMMARY:Volunteer Training – December 2024
DESCRIPTION:Please join us to learn the ropes of being a volunteer at the Saddle Light Center. \nLearn More: https://thesaddlelightcenter.com/how-to-help/volunteer/  \nQuestions? volcoor@sbcglobal.net
URL:https://thesaddlelightcenter.com/event/volunteer-training-december-2024/
LOCATION:Retama Equestrian Center
CATEGORIES:New Volunteer Training
ATTACH;FMTTYPE=image/jpeg:https://thesaddlelightcenter.com/wp-content/uploads/2015/09/RidersShowCase1520150530_0283-scaled.jpg
END:VEVENT
BEGIN:VEVENT
DTSTART;TZID=America/Chicago:20241207T160000
DTEND;TZID=America/Chicago:20241207T190000
DTSTAMP:20260423T155210
CREATED:20241106T013653Z
LAST-MODIFIED:20241106T014018Z
UID:6042-1733587200-1733598000@thesaddlelightcenter.com
SUMMARY:Christmas Party 2024
DESCRIPTION:Mark your calendars for the Christmas Party December 7th\, 4:00 to 7:00 pm at the River City Church Club House! \nJoin us for Christmas music\, refreshments\, and a special visit from you know who! We will also be drawing the winners of the annual raffle.
URL:https://thesaddlelightcenter.com/event/christmas-party-2024/
LOCATION:River City Church Club House\, 16765 Lookout Rd #3809\, Selma\, TX\, 78154\, United States
CATEGORIES:Special Events
ATTACH;FMTTYPE=image/jpeg:https://thesaddlelightcenter.com/wp-content/uploads/2024/11/pexels-timmossholder-383604.jpg
END:VEVENT
BEGIN:VEVENT
DTSTART;VALUE=DATE:20241202
DTEND;VALUE=DATE:20250308
DTSTAMP:20260423T155210
CREATED:20240731T052432Z
LAST-MODIFIED:20241204T033950Z
UID:5890-1733097600-1741391999@thesaddlelightcenter.com
SUMMARY:Winter Session 2024
DESCRIPTION:
URL:https://thesaddlelightcenter.com/event/winter-session-2024/
CATEGORIES:Session Operating Season
ATTACH;FMTTYPE=image/jpeg:https://thesaddlelightcenter.com/wp-content/uploads/2015/09/RidersShowCase1520150530_0283-scaled.jpg
END:VEVENT
BEGIN:VEVENT
DTSTART;VALUE=DATE:20241125
DTEND;VALUE=DATE:20241130
DTSTAMP:20260423T155210
CREATED:20240731T053631Z
LAST-MODIFIED:20240731T053631Z
UID:5907-1732492800-1732924799@thesaddlelightcenter.com
SUMMARY:Thanksgiving Break 2024
DESCRIPTION:
URL:https://thesaddlelightcenter.com/event/thanksgiving-break-2024/
CATEGORIES:Break
ATTACH;FMTTYPE=image/jpeg:https://thesaddlelightcenter.com/wp-content/uploads/2015/09/RidersShowCase1520150530_0283-scaled.jpg
END:VEVENT
BEGIN:VEVENT
DTSTART;TZID=America/Chicago:20241116T100000
DTEND;TZID=America/Chicago:20241116T110000
DTSTAMP:20260423T155210
CREATED:20240311T184457Z
LAST-MODIFIED:20240311T184457Z
UID:5787-1731751200-1731754800@thesaddlelightcenter.com
SUMMARY:Volunteer Training – November 2024
DESCRIPTION:Please join us to learn the ropes of being a volunteer at the Saddle Light Center. \nLearn More: https://thesaddlelightcenter.com/how-to-help/volunteer/  \nQuestions? volcoor@sbcglobal.net
URL:https://thesaddlelightcenter.com/event/volunteer-training-november-2024/
LOCATION:Retama Equestrian Center
CATEGORIES:New Volunteer Training
ATTACH;FMTTYPE=image/jpeg:https://thesaddlelightcenter.com/wp-content/uploads/2015/09/RidersShowCase1520150530_0283-scaled.jpg
END:VEVENT
BEGIN:VEVENT
DTSTART;TZID=America/Chicago:20241019T100000
DTEND;TZID=America/Chicago:20241019T130000
DTSTAMP:20260423T155210
CREATED:20240311T184324Z
LAST-MODIFIED:20240927T022050Z
UID:5785-1729332000-1729342800@thesaddlelightcenter.com
SUMMARY:Volunteer Training – October 2024
DESCRIPTION:Please join us to learn the ropes of being a volunteer at the Saddle Light Center. \nLearn More: https://thesaddlelightcenter.com/how-to-help/volunteer/  \nQuestions? volcoor@sbcglobal.net
URL:https://thesaddlelightcenter.com/event/volunteer-training-october-2024/
LOCATION:Retama Equestrian Center
CATEGORIES:New Volunteer Training
ATTACH;FMTTYPE=image/jpeg:https://thesaddlelightcenter.com/wp-content/uploads/2015/09/RidersShowCase1520150530_0283-scaled.jpg
END:VEVENT
BEGIN:VEVENT
DTSTART;TZID=America/Chicago:20241005T140000
DTEND;TZID=America/Chicago:20241005T180000
DTSTAMP:20260423T155210
CREATED:20240731T060143Z
LAST-MODIFIED:20240927T021436Z
UID:5917-1728136800-1728151200@thesaddlelightcenter.com
SUMMARY:EquestFest 2024
DESCRIPTION:EquestFEST 2024 \nAbout\nThe Saddle Light Center for therapeutic Horsemanship is announcing their annual fundraising event\, EquestFest – A Celebration of the therapy Horse. \nEquestFest is a family-oriented event and admission of $10 for adults and $5 for children includes activities for the entire family – live music by the Just 4 Fun Band\, hayrides to Saddle Light Center barn tours\, dance performances by Traditional American Indian Veterans\, petting zoo\, face painting\, balloon twister and more.  Horseback rides will be offered at $10 for 15 minutes. \nWhere:  River City Community Church grounds across from Retama racetrack in Selma\, 16765 Lookout Road. \nWhen:  Saturday\, October 5\, 2024 from 2:00 – 6:00 PM. \n\nFood Booths\nLive Music\nFamily Fun\nFree Parking\nRain or Shine\n\nTickets at the Gate\n\nAdult: $10\nChildren (ages 5-12): $5\n\nFeaturing\n\nJust 4 Fun Band\nPerformance by the Traditional American Indian Veterans Association\n\nActivities\nNew: Most activity prices are included with ticket cost this year\, except for horseback riding. \n\nHorseback Rides ($10 for 15 minutes )\nBalloon Twister\nPumpkin Painting\nFace Painting\nAir Bounce\nPetting Zoo\nHay Rides with Stable Tours\n\nCome Join Us At EquestFest 2024 – A Rootin’ Tootin’ Day of Family Fun!\nRiver City Community Church Grounds\n16765 Lookout Road\nSelma\, TX \n2pm – 6pm \nSponsors\n   \n    \nContributors\n\nDorothy Cofield – Remax Preferred Realtors\,\nSea World\,\nNatural Bridge Caverns\,\nAnimal World & Snake Farm\,\nCostco\,\nRandolph Brooks Federal Credit Union\,\nFriends of Magoo\,\nAnne Walker\n\nCOME OUT & HORSE AROUND! \nPhotos \n\n\nVendors\nPlease contact us for pricing and information. \nSponsorship\nLooking to sponsor the event? Learn more here: https://thesaddlelightcenter.com/product/sponsor-an-event/ \nDownload Flyer\n Download Event Flyer
URL:https://thesaddlelightcenter.com/event/equestfest-2024/
LOCATION:River City Community Church Grounds\, 16765 Lookout Road\, Selma\, TX\, 78154\, United States
CATEGORIES:Fundraisers,Special Events
ATTACH;FMTTYPE=image/jpeg:https://thesaddlelightcenter.com/wp-content/uploads/2015/08/Equestfest-logo.jpg
END:VEVENT
BEGIN:VEVENT
DTSTART;TZID=America/Chicago:20240914T100000
DTEND;TZID=America/Chicago:20240914T110000
DTSTAMP:20260423T155211
CREATED:20240311T184136Z
LAST-MODIFIED:20240311T184136Z
UID:5783-1726308000-1726311600@thesaddlelightcenter.com
SUMMARY:Volunteer Training – September 2024
DESCRIPTION:Please join us to learn the ropes of being a volunteer at the Saddle Light Center. \nLearn More: https://thesaddlelightcenter.com/how-to-help/volunteer/  \nQuestions? volcoor@sbcglobal.net
URL:https://thesaddlelightcenter.com/event/volunteer-training-september-2024/
LOCATION:Retama Equestrian Center
CATEGORIES:New Volunteer Training
ATTACH;FMTTYPE=image/jpeg:https://thesaddlelightcenter.com/wp-content/uploads/2015/09/RidersShowCase1520150530_0283-scaled.jpg
END:VEVENT
BEGIN:VEVENT
DTSTART;VALUE=DATE:20240903
DTEND;VALUE=DATE:20241125
DTSTAMP:20260423T155211
CREATED:20240731T052621Z
LAST-MODIFIED:20240731T052621Z
UID:5892-1725321600-1732492799@thesaddlelightcenter.com
SUMMARY:Fall Session 2024
DESCRIPTION:
URL:https://thesaddlelightcenter.com/event/fall-session-2024/
CATEGORIES:Session Operating Season
ATTACH;FMTTYPE=image/jpeg:https://thesaddlelightcenter.com/wp-content/uploads/2015/09/RidersShowCase1520150530_0283-scaled.jpg
END:VEVENT
END:VCALENDAR