BEGIN:VCALENDAR
VERSION:2.0
PRODID:-//The Saddle Light Center - ECPv6.15.17.1//NONSGML v1.0//EN
CALSCALE:GREGORIAN
METHOD:PUBLISH
X-WR-CALNAME:The Saddle Light Center
X-ORIGINAL-URL:https://thesaddlelightcenter.com
X-WR-CALDESC:Events for The Saddle Light Center
REFRESH-INTERVAL;VALUE=DURATION:PT1H
X-Robots-Tag:noindex
X-PUBLISHED-TTL:PT1H
BEGIN:VTIMEZONE
TZID:America/Chicago
BEGIN:DAYLIGHT
TZOFFSETFROM:-0600
TZOFFSETTO:-0500
TZNAME:CDT
DTSTART:20160313T080000
END:DAYLIGHT
BEGIN:STANDARD
TZOFFSETFROM:-0500
TZOFFSETTO:-0600
TZNAME:CST
DTSTART:20161106T070000
END:STANDARD
BEGIN:DAYLIGHT
TZOFFSETFROM:-0600
TZOFFSETTO:-0500
TZNAME:CDT
DTSTART:20170312T080000
END:DAYLIGHT
BEGIN:STANDARD
TZOFFSETFROM:-0500
TZOFFSETTO:-0600
TZNAME:CST
DTSTART:20171105T070000
END:STANDARD
BEGIN:DAYLIGHT
TZOFFSETFROM:-0600
TZOFFSETTO:-0500
TZNAME:CDT
DTSTART:20180311T080000
END:DAYLIGHT
BEGIN:STANDARD
TZOFFSETFROM:-0500
TZOFFSETTO:-0600
TZNAME:CST
DTSTART:20181104T070000
END:STANDARD
END:VTIMEZONE
BEGIN:VEVENT
DTSTART;TZID=America/Chicago:20170910T140000
DTEND;TZID=America/Chicago:20170910T190000
DTSTAMP:20260425T090628
CREATED:20170731T033903Z
LAST-MODIFIED:20190211T063431Z
UID:2183-1505052000-1505070000@thesaddlelightcenter.com
SUMMARY:2017 EquestFest
DESCRIPTION: Come out and horse around! \nActivities\n\nPony Rides/Petting Zoo\nGames\nTwo Tons of Steel Band\nHay Wagon & Story Teller\nMule Team\nFace Painting\nAir Bounce\nSilent Auction\nRaffle\nFood\nDrill Team\nTherapeutic Riding & Hippotherapy Exhibit\nLots of “Horsey” stuff!\n\nActivities $1 ea & Pony Rides $3 ea \nTickets\nAdvance:\nAdults- $8;\nChildren (ages 5-12) -$5 \nAt the Gate:\nAdult- $10;\nChildren (ages 5-12) -$7 \nDownload Flyer
URL:https://thesaddlelightcenter.com/event/2017-equestfest/
LOCATION:Rio Cibolo Ranch\, 1101 Ulrich Rd\, Marion\, TX\, 78124\, United States
CATEGORIES:Special Events
ATTACH;FMTTYPE=image/jpeg:https://thesaddlelightcenter.com/wp-content/uploads/2016/02/EquestFest-2016.jpg
END:VEVENT
END:VCALENDAR