BEGIN:VCALENDAR
VERSION:2.0
PRODID:-//The Saddle Light Center - ECPv6.15.17.1//NONSGML v1.0//EN
CALSCALE:GREGORIAN
METHOD:PUBLISH
X-ORIGINAL-URL:https://thesaddlelightcenter.com
X-WR-CALDESC:Events for The Saddle Light Center
REFRESH-INTERVAL;VALUE=DURATION:PT1H
X-Robots-Tag:noindex
X-PUBLISHED-TTL:PT1H
BEGIN:VTIMEZONE
TZID:America/Chicago
BEGIN:DAYLIGHT
TZOFFSETFROM:-0600
TZOFFSETTO:-0500
TZNAME:CDT
DTSTART:20250309T080000
END:DAYLIGHT
BEGIN:STANDARD
TZOFFSETFROM:-0500
TZOFFSETTO:-0600
TZNAME:CST
DTSTART:20251102T070000
END:STANDARD
BEGIN:DAYLIGHT
TZOFFSETFROM:-0600
TZOFFSETTO:-0500
TZNAME:CDT
DTSTART:20260308T080000
END:DAYLIGHT
BEGIN:STANDARD
TZOFFSETFROM:-0500
TZOFFSETTO:-0600
TZNAME:CST
DTSTART:20261101T070000
END:STANDARD
BEGIN:DAYLIGHT
TZOFFSETFROM:-0600
TZOFFSETTO:-0500
TZNAME:CDT
DTSTART:20270314T080000
END:DAYLIGHT
BEGIN:STANDARD
TZOFFSETFROM:-0500
TZOFFSETTO:-0600
TZNAME:CST
DTSTART:20271107T070000
END:STANDARD
BEGIN:DAYLIGHT
TZOFFSETFROM:-0600
TZOFFSETTO:-0500
TZNAME:CDT
DTSTART:20280312T080000
END:DAYLIGHT
BEGIN:STANDARD
TZOFFSETFROM:-0500
TZOFFSETTO:-0600
TZNAME:CST
DTSTART:20281105T070000
END:STANDARD
END:VTIMEZONE
BEGIN:VEVENT
DTSTART;VALUE=DATE:20261130
DTEND;VALUE=DATE:20270306
DTSTAMP:20260423T155651
CREATED:20260311T065615Z
LAST-MODIFIED:20260311T065625Z
UID:6662-1795996800-1804291199@thesaddlelightcenter.com
SUMMARY:Winter Session 2026
DESCRIPTION:
URL:https://thesaddlelightcenter.com/event/winter-session-2026/
CATEGORIES:Session Operating Season
ATTACH;FMTTYPE=image/jpeg:https://thesaddlelightcenter.com/wp-content/uploads/2015/09/RidersShowCase1520150530_0283-scaled.jpg
END:VEVENT
BEGIN:VEVENT
DTSTART;TZID=America/Chicago:20261205T100000
DTEND;TZID=America/Chicago:20261205T110000
DTSTAMP:20260423T155651
CREATED:20251128T200802Z
LAST-MODIFIED:20251128T200802Z
UID:6561-1796464800-1796468400@thesaddlelightcenter.com
SUMMARY:Volunteer Training – December 2026
DESCRIPTION:Please join us to learn the ropes of being a volunteer at the Saddle Light Center. \nLearn More: https://thesaddlelightcenter.com/how-to-help/volunteer/  \nQuestions? volcoor@sbcglobal.net
URL:https://thesaddlelightcenter.com/event/volunteer-training-december-2026/
LOCATION:Retama Equestrian Center
CATEGORIES:New Volunteer Training
ATTACH;FMTTYPE=image/jpeg:https://thesaddlelightcenter.com/wp-content/uploads/2015/09/RidersShowCase1520150530_0283-scaled.jpg
END:VEVENT
BEGIN:VEVENT
DTSTART;VALUE=DATE:20261221
DTEND;VALUE=DATE:20270102
DTSTAMP:20260423T155651
CREATED:20260311T065848Z
LAST-MODIFIED:20260311T071126Z
UID:6666-1797811200-1798847999@thesaddlelightcenter.com
SUMMARY:Winter Holiday Break 2026
DESCRIPTION:
URL:https://thesaddlelightcenter.com/event/winter-holiday-break-2026/
CATEGORIES:Break
ATTACH;FMTTYPE=image/jpeg:https://thesaddlelightcenter.com/wp-content/uploads/2015/09/RidersShowCase1520150530_0283-scaled.jpg
END:VEVENT
END:VCALENDAR