BEGIN:VCALENDAR
VERSION:2.0
PRODID:-//The Saddle Light Center - ECPv6.15.17.1//NONSGML v1.0//EN
CALSCALE:GREGORIAN
METHOD:PUBLISH
X-WR-CALNAME:The Saddle Light Center
X-ORIGINAL-URL:https://thesaddlelightcenter.com
X-WR-CALDESC:Events for The Saddle Light Center
REFRESH-INTERVAL;VALUE=DURATION:PT1H
X-Robots-Tag:noindex
X-PUBLISHED-TTL:PT1H
BEGIN:VTIMEZONE
TZID:America/Chicago
BEGIN:DAYLIGHT
TZOFFSETFROM:-0600
TZOFFSETTO:-0500
TZNAME:CDT
DTSTART:20210314T080000
END:DAYLIGHT
BEGIN:STANDARD
TZOFFSETFROM:-0500
TZOFFSETTO:-0600
TZNAME:CST
DTSTART:20211107T070000
END:STANDARD
BEGIN:DAYLIGHT
TZOFFSETFROM:-0600
TZOFFSETTO:-0500
TZNAME:CDT
DTSTART:20220313T080000
END:DAYLIGHT
BEGIN:STANDARD
TZOFFSETFROM:-0500
TZOFFSETTO:-0600
TZNAME:CST
DTSTART:20221106T070000
END:STANDARD
BEGIN:DAYLIGHT
TZOFFSETFROM:-0600
TZOFFSETTO:-0500
TZNAME:CDT
DTSTART:20230312T080000
END:DAYLIGHT
BEGIN:STANDARD
TZOFFSETFROM:-0500
TZOFFSETTO:-0600
TZNAME:CST
DTSTART:20231105T070000
END:STANDARD
BEGIN:DAYLIGHT
TZOFFSETFROM:-0600
TZOFFSETTO:-0500
TZNAME:CDT
DTSTART:20240310T080000
END:DAYLIGHT
BEGIN:STANDARD
TZOFFSETFROM:-0500
TZOFFSETTO:-0600
TZNAME:CST
DTSTART:20241103T070000
END:STANDARD
BEGIN:DAYLIGHT
TZOFFSETFROM:-0600
TZOFFSETTO:-0500
TZNAME:CDT
DTSTART:20250309T080000
END:DAYLIGHT
BEGIN:STANDARD
TZOFFSETFROM:-0500
TZOFFSETTO:-0600
TZNAME:CST
DTSTART:20251102T070000
END:STANDARD
END:VTIMEZONE
BEGIN:VEVENT
DTSTART;TZID=America/Chicago:20240309T100000
DTEND;TZID=America/Chicago:20240309T110000
DTSTAMP:20260424T030718
CREATED:20240311T183505Z
LAST-MODIFIED:20240311T183505Z
UID:5771-1709978400-1709982000@thesaddlelightcenter.com
SUMMARY:Volunteer Training – March 2024
DESCRIPTION:Please join us to learn the ropes of being a volunteer at the Saddle Light Center. \nLearn More: https://thesaddlelightcenter.com/how-to-help/volunteer/  \nQuestions? volcoor@sbcglobal.net
URL:https://thesaddlelightcenter.com/event/volunteer-training-march-2024/
LOCATION:Retama Equestrian Center
CATEGORIES:New Volunteer Training
ATTACH;FMTTYPE=image/jpeg:https://thesaddlelightcenter.com/wp-content/uploads/2015/09/RidersShowCase1520150530_0283-scaled.jpg
END:VEVENT
BEGIN:VEVENT
DTSTART;VALUE=DATE:20231218
DTEND;VALUE=DATE:20240104
DTSTAMP:20260424T030718
CREATED:20230522T051106Z
LAST-MODIFIED:20230522T051106Z
UID:5413-1702857600-1704326399@thesaddlelightcenter.com
SUMMARY:Winter Holiday Break 2023
DESCRIPTION:
URL:https://thesaddlelightcenter.com/event/winter-holiday-break-2023/
CATEGORIES:Break
ATTACH;FMTTYPE=image/jpeg:https://thesaddlelightcenter.com/wp-content/uploads/2015/09/RidersShowCase1520150530_0283-scaled.jpg
END:VEVENT
BEGIN:VEVENT
DTSTART;TZID=America/Chicago:20231217T160000
DTEND;TZID=America/Chicago:20231217T190000
DTSTAMP:20260424T030718
CREATED:20231113T000623Z
LAST-MODIFIED:20231113T001548Z
UID:5668-1702828800-1702839600@thesaddlelightcenter.com
SUMMARY:Christmas Party at Morgan’s Wonderland
DESCRIPTION:We will hold our Christmas Party at Morgan’s Wonderland in the Event Center on Sunday\, December 17\, 2023 from 4pm – 7 pm. \n“Friends of The Saddle Light Center” band will play for us again. We will have finger foods and dessert and we will recognize the volunteers for their time and support throughout this year. \nWe will award certificates for hours given and plaques for years given. The park will not be open as they have some construction going on. \nWe do need reservations\, so please either call or text the office\, 210-651-9574. Please reserve by December 11th.
URL:https://thesaddlelightcenter.com/event/christmas-party-at-morgans-wonderland/
LOCATION:Morgan’s Wonderland\, 5223 David Edwards Dr\,\, San Antonio\, TX\, 78233\, United States
CATEGORIES:Special Events
ATTACH;FMTTYPE=image/jpeg:https://thesaddlelightcenter.com/wp-content/uploads/2023/11/pexels-gustavo-fring-6050502-1.jpg
END:VEVENT
BEGIN:VEVENT
DTSTART;TZID=America/Chicago:20231216T100000
DTEND;TZID=America/Chicago:20231216T110000
DTSTAMP:20260424T030718
CREATED:20221220T033652Z
LAST-MODIFIED:20221220T033652Z
UID:5272-1702720800-1702724400@thesaddlelightcenter.com
SUMMARY:Volunteer Training – December 2023
DESCRIPTION:Please join us to learn the ropes of being a volunteer at the Saddle Light Center. \nLearn More: https://thesaddlelightcenter.com/how-to-help/volunteer/  \nQuestions? volcoor@sbcglobal.net
URL:https://thesaddlelightcenter.com/event/volunteer-training-december-2023/
LOCATION:Retama Equestrian Center
CATEGORIES:New Volunteer Training
ATTACH;FMTTYPE=image/jpeg:https://thesaddlelightcenter.com/wp-content/uploads/2015/09/RidersShowCase1520150530_0283-scaled.jpg
END:VEVENT
BEGIN:VEVENT
DTSTART;VALUE=DATE:20231127
DTEND;VALUE=DATE:20240311
DTSTAMP:20260424T030718
CREATED:20230522T045632Z
LAST-MODIFIED:20240731T054058Z
UID:5398-1701043200-1710115199@thesaddlelightcenter.com
SUMMARY:Winter Session 2023
DESCRIPTION:
URL:https://thesaddlelightcenter.com/event/winter-session-2023/
CATEGORIES:Session Operating Season
ATTACH;FMTTYPE=image/jpeg:https://thesaddlelightcenter.com/wp-content/uploads/2015/09/RidersShowCase1520150530_0283-scaled.jpg
END:VEVENT
BEGIN:VEVENT
DTSTART;VALUE=DATE:20231120
DTEND;VALUE=DATE:20231125
DTSTAMP:20260424T030718
CREATED:20230522T051020Z
LAST-MODIFIED:20230522T051020Z
UID:5411-1700438400-1700870399@thesaddlelightcenter.com
SUMMARY:Thanksgiving Break 2023
DESCRIPTION:
URL:https://thesaddlelightcenter.com/event/thanksgiving-break-2023/
CATEGORIES:Break
ATTACH;FMTTYPE=image/jpeg:https://thesaddlelightcenter.com/wp-content/uploads/2015/09/RidersShowCase1520150530_0283-scaled.jpg
END:VEVENT
BEGIN:VEVENT
DTSTART;TZID=America/Chicago:20231021T100000
DTEND;TZID=America/Chicago:20231021T110000
DTSTAMP:20260424T030718
CREATED:20221220T033441Z
LAST-MODIFIED:20221220T033441Z
UID:5268-1697882400-1697886000@thesaddlelightcenter.com
SUMMARY:Volunteer Training – October 2023
DESCRIPTION:Please join us to learn the ropes of being a volunteer at the Saddle Light Center. \nLearn More: https://thesaddlelightcenter.com/how-to-help/volunteer/  \nQuestions? volcoor@sbcglobal.net
URL:https://thesaddlelightcenter.com/event/volunteer-training-october-2023/
LOCATION:Retama Equestrian Center
CATEGORIES:New Volunteer Training
ATTACH;FMTTYPE=image/jpeg:https://thesaddlelightcenter.com/wp-content/uploads/2015/09/RidersShowCase1520150530_0283-scaled.jpg
END:VEVENT
BEGIN:VEVENT
DTSTART;TZID=America/Chicago:20230930T130000
DTEND;TZID=America/Chicago:20230930T180000
DTSTAMP:20260424T030718
CREATED:20230522T051826Z
LAST-MODIFIED:20230817T023924Z
UID:5417-1696078800-1696096800@thesaddlelightcenter.com
SUMMARY:EquestFest 2023
DESCRIPTION:EquestFest is our annual festival benefiting The Saddle Light Center for Therapeutic Horsemanship. The Funds raised support our horses and equestian programs. \n\nFood Booths\nLive Music\nFun\nFree Parking\nRain or Shine\n\nTickets at the Gate\n\nAdult: $10\nChildren (ages 5-12): $5\n\nFeaturing\n\nSan Antonio Charro Associate\nOle West Gunfighters\nJust for Fun Band\n\nActivities\n\nPony Rides\nFace Painting\nAir Bounce\nPetting Zoo\n\n  \n\nPer Activity: $1\nPony Rides: $6\n\nCome Join Us At EquestFest 2023 – A Rootin’ Tootin’ Day of Family Fun!\nHelotes Fairgrounds\n12210 Leslie Road\n1pm – 6pm \nCOME OUT & HORSE AROUND! \nPhotos \n\n\nVendors\nPlease contact us for pricing and information. \nSponsorship\n\nLooking to sponsor the event? Learn more here: https://thesaddlelightcenter.com/product/sponsor-an-event/
URL:https://thesaddlelightcenter.com/event/equestfest-2023/
LOCATION:Helotes Fairgrounds\, 12210 Leslie Rd\, Helotes\, TX\, 78023\, United States
CATEGORIES:Fundraisers,Special Events
ATTACH;FMTTYPE=image/jpeg:https://thesaddlelightcenter.com/wp-content/uploads/2015/08/Equestfest-logo.jpg
END:VEVENT
BEGIN:VEVENT
DTSTART;TZID=America/Chicago:20230916T100000
DTEND;TZID=America/Chicago:20230916T110000
DTSTAMP:20260424T030718
CREATED:20221220T033340Z
LAST-MODIFIED:20221220T033340Z
UID:5266-1694858400-1694862000@thesaddlelightcenter.com
SUMMARY:Volunteer Training – September 2023
DESCRIPTION:Please join us to learn the ropes of being a volunteer at the Saddle Light Center. \nLearn More: https://thesaddlelightcenter.com/how-to-help/volunteer/  \nQuestions? volcoor@sbcglobal.net
URL:https://thesaddlelightcenter.com/event/volunteer-training-september-2023/
LOCATION:Retama Equestrian Center
CATEGORIES:New Volunteer Training
ATTACH;FMTTYPE=image/jpeg:https://thesaddlelightcenter.com/wp-content/uploads/2015/09/RidersShowCase1520150530_0283-scaled.jpg
END:VEVENT
BEGIN:VEVENT
DTSTART;VALUE=DATE:20230906
DTEND;VALUE=DATE:20231125
DTSTAMP:20260424T030718
CREATED:20230522T050024Z
LAST-MODIFIED:20230522T050024Z
UID:5403-1693958400-1700870399@thesaddlelightcenter.com
SUMMARY:Fall Session 2023
DESCRIPTION:
URL:https://thesaddlelightcenter.com/event/fall-session-2023/
CATEGORIES:Session Operating Season
ATTACH;FMTTYPE=image/jpeg:https://thesaddlelightcenter.com/wp-content/uploads/2015/09/RidersShowCase1520150530_0283-scaled.jpg
END:VEVENT
BEGIN:VEVENT
DTSTART;VALUE=DATE:20230821
DTEND;VALUE=DATE:20230906
DTSTAMP:20260424T030718
CREATED:20230522T050814Z
LAST-MODIFIED:20230522T050814Z
UID:5407-1692576000-1693958399@thesaddlelightcenter.com
SUMMARY:End-of-Summer Break 2023
DESCRIPTION:
URL:https://thesaddlelightcenter.com/event/end-of-summer-break-2023/
CATEGORIES:Break
ATTACH;FMTTYPE=image/jpeg:https://thesaddlelightcenter.com/wp-content/uploads/2015/09/RidersShowCase1520150530_0283-scaled.jpg
END:VEVENT
BEGIN:VEVENT
DTSTART;TZID=America/Chicago:20230819T100000
DTEND;TZID=America/Chicago:20230819T130000
DTSTAMP:20260424T030718
CREATED:20221220T033217Z
LAST-MODIFIED:20221220T033217Z
UID:5264-1692439200-1692450000@thesaddlelightcenter.com
SUMMARY:Volunteer Training – August 2023
DESCRIPTION:Please join us to learn the ropes of being a volunteer at the Saddle Light Center. \nLearn More: https://thesaddlelightcenter.com/how-to-help/volunteer/  \nQuestions? volcoor@sbcglobal.net
URL:https://thesaddlelightcenter.com/event/volunteer-training-august-2023/
LOCATION:Retama Equestrian Center
CATEGORIES:New Volunteer Training
ATTACH;FMTTYPE=image/jpeg:https://thesaddlelightcenter.com/wp-content/uploads/2015/09/RidersShowCase1520150530_0283-scaled.jpg
END:VEVENT
BEGIN:VEVENT
DTSTART;TZID=America/Chicago:20230715T100000
DTEND;TZID=America/Chicago:20230715T130000
DTSTAMP:20260424T030718
CREATED:20221220T033055Z
LAST-MODIFIED:20221220T033055Z
UID:5262-1689415200-1689426000@thesaddlelightcenter.com
SUMMARY:Volunteer Training – July 2023
DESCRIPTION:Please join us to learn the ropes of being a volunteer at the Saddle Light Center. \nLearn More: https://thesaddlelightcenter.com/how-to-help/volunteer/  \nQuestions? volcoor@sbcglobal.net
URL:https://thesaddlelightcenter.com/event/volunteer-training-july-2023/
LOCATION:Retama Equestrian Center
CATEGORIES:New Volunteer Training
ATTACH;FMTTYPE=image/jpeg:https://thesaddlelightcenter.com/wp-content/uploads/2015/09/RidersShowCase1520150530_0283-scaled.jpg
END:VEVENT
BEGIN:VEVENT
DTSTART;TZID=America/Chicago:20230617T100000
DTEND;TZID=America/Chicago:20230617T130000
DTSTAMP:20260424T030718
CREATED:20221220T032926Z
LAST-MODIFIED:20221220T032926Z
UID:5260-1686996000-1687006800@thesaddlelightcenter.com
SUMMARY:Volunteer Training – June 2023
DESCRIPTION:Please join us to learn the ropes of being a volunteer at the Saddle Light Center. \nLearn More: https://thesaddlelightcenter.com/how-to-help/volunteer/  \nQuestions? volcoor@sbcglobal.net
URL:https://thesaddlelightcenter.com/event/volunteer-training-june-2023/
LOCATION:Retama Equestrian Center
CATEGORIES:New Volunteer Training
ATTACH;FMTTYPE=image/jpeg:https://thesaddlelightcenter.com/wp-content/uploads/2015/09/RidersShowCase1520150530_0283-scaled.jpg
END:VEVENT
BEGIN:VEVENT
DTSTART;VALUE=DATE:20230605
DTEND;VALUE=DATE:20230906
DTSTAMP:20260424T030718
CREATED:20220214T015118Z
LAST-MODIFIED:20230522T050201Z
UID:4463-1685923200-1693958399@thesaddlelightcenter.com
SUMMARY:Summer Session 2023
DESCRIPTION:
URL:https://thesaddlelightcenter.com/event/summer-session-2023/
CATEGORIES:Session Operating Season
ATTACH;FMTTYPE=image/jpeg:https://thesaddlelightcenter.com/wp-content/uploads/2015/09/RidersShowCase1520150530_0283-scaled.jpg
END:VEVENT
BEGIN:VEVENT
DTSTART;VALUE=DATE:20230522
DTEND;VALUE=DATE:20230603
DTSTAMP:20260424T030718
CREATED:20230522T050910Z
LAST-MODIFIED:20230522T051311Z
UID:5409-1684713600-1685750399@thesaddlelightcenter.com
SUMMARY:End-of-School Break 2023
DESCRIPTION:
URL:https://thesaddlelightcenter.com/event/end-of-school-break-2023/
CATEGORIES:Break
ATTACH;FMTTYPE=image/jpeg:https://thesaddlelightcenter.com/wp-content/uploads/2015/09/RidersShowCase1520150530_0283-scaled.jpg
END:VEVENT
BEGIN:VEVENT
DTSTART;TZID=America/Chicago:20230520T100000
DTEND;TZID=America/Chicago:20230520T130000
DTSTAMP:20260424T030718
CREATED:20221220T032817Z
LAST-MODIFIED:20221220T032817Z
UID:5258-1684576800-1684587600@thesaddlelightcenter.com
SUMMARY:Volunteer Training – May 2023
DESCRIPTION:Please join us to learn the ropes of being a volunteer at the Saddle Light Center. \nLearn More: https://thesaddlelightcenter.com/how-to-help/volunteer/  \nQuestions? volcoor@sbcglobal.net
URL:https://thesaddlelightcenter.com/event/volunteer-training-may-2023/
LOCATION:Retama Equestrian Center
CATEGORIES:New Volunteer Training
ATTACH;FMTTYPE=image/jpeg:https://thesaddlelightcenter.com/wp-content/uploads/2015/09/RidersShowCase1520150530_0283-scaled.jpg
END:VEVENT
BEGIN:VEVENT
DTSTART;VALUE=DATE:20230520
DTEND;VALUE=DATE:20230521
DTSTAMP:20260424T030718
CREATED:20230522T051551Z
LAST-MODIFIED:20230522T051551Z
UID:5415-1684540800-1684627199@thesaddlelightcenter.com
SUMMARY:Rider Showcase 2023
DESCRIPTION:Please join us to watch the riders show off their skills. More information to come.
URL:https://thesaddlelightcenter.com/event/rider-showcase-2023/
CATEGORIES:Special Events
ATTACH;FMTTYPE=image/jpeg:https://thesaddlelightcenter.com/wp-content/uploads/2015/09/RidersShowCase1520150530_0283-scaled.jpg
END:VEVENT
BEGIN:VEVENT
DTSTART;TZID=America/Chicago:20230415T100000
DTEND;TZID=America/Chicago:20230415T130000
DTSTAMP:20260424T030718
CREATED:20221220T032713Z
LAST-MODIFIED:20221220T032713Z
UID:5256-1681552800-1681563600@thesaddlelightcenter.com
SUMMARY:Volunteer Training – April 2023
DESCRIPTION:Please join us to learn the ropes of being a volunteer at the Saddle Light Center. \nLearn More: https://thesaddlelightcenter.com/how-to-help/volunteer/  \nQuestions? volcoor@sbcglobal.net
URL:https://thesaddlelightcenter.com/event/volunteer-training-april-2023/
LOCATION:Retama Equestrian Center
CATEGORIES:New Volunteer Training
ATTACH;FMTTYPE=image/jpeg:https://thesaddlelightcenter.com/wp-content/uploads/2015/09/RidersShowCase1520150530_0283-scaled.jpg
END:VEVENT
BEGIN:VEVENT
DTSTART;VALUE=DATE:20230320
DTEND;VALUE=DATE:20230603
DTSTAMP:20260424T030718
CREATED:20230522T045802Z
LAST-MODIFIED:20230522T045802Z
UID:5400-1679270400-1685750399@thesaddlelightcenter.com
SUMMARY:Spring Session 2023
DESCRIPTION:
URL:https://thesaddlelightcenter.com/event/spring-session-2023/
CATEGORIES:Session Operating Season
ATTACH;FMTTYPE=image/jpeg:https://thesaddlelightcenter.com/wp-content/uploads/2015/09/RidersShowCase1520150530_0283-scaled.jpg
END:VEVENT
BEGIN:VEVENT
DTSTART;VALUE=DATE:20230313
DTEND;VALUE=DATE:20230318
DTSTAMP:20260424T030718
CREATED:20230522T050645Z
LAST-MODIFIED:20230522T050645Z
UID:5405-1678665600-1679097599@thesaddlelightcenter.com
SUMMARY:Spring Break 2023
DESCRIPTION:
URL:https://thesaddlelightcenter.com/event/spring-break-2023/
CATEGORIES:Break
ATTACH;FMTTYPE=image/jpeg:https://thesaddlelightcenter.com/wp-content/uploads/2015/09/RidersShowCase1520150530_0283-scaled.jpg
END:VEVENT
BEGIN:VEVENT
DTSTART;TZID=America/Chicago:20230311T100000
DTEND;TZID=America/Chicago:20230311T130000
DTSTAMP:20260424T030718
CREATED:20221220T032413Z
LAST-MODIFIED:20221220T032413Z
UID:5254-1678528800-1678539600@thesaddlelightcenter.com
SUMMARY:Volunteer Training – March 2023
DESCRIPTION:Please join us to learn the ropes of being a volunteer at the Saddle Light Center. \nLearn More: https://thesaddlelightcenter.com/how-to-help/volunteer/  \nQuestions? volcoor@sbcglobal.net
URL:https://thesaddlelightcenter.com/event/volunteer-training-march-2023/
LOCATION:Retama Equestrian Center
CATEGORIES:New Volunteer Training
ATTACH;FMTTYPE=image/jpeg:https://thesaddlelightcenter.com/wp-content/uploads/2015/09/RidersShowCase1520150530_0283-scaled.jpg
END:VEVENT
BEGIN:VEVENT
DTSTART;TZID=America/Chicago:20230218T100000
DTEND;TZID=America/Chicago:20230218T130000
DTSTAMP:20260424T030718
CREATED:20221220T032232Z
LAST-MODIFIED:20221220T032551Z
UID:5252-1676714400-1676725200@thesaddlelightcenter.com
SUMMARY:Volunteer Training – February 2023
DESCRIPTION:Please join us to learn the ropes of being a volunteer at the Saddle Light Center. \nLearn More: https://thesaddlelightcenter.com/how-to-help/volunteer/  \nQuestions? volcoor@sbcglobal.net
URL:https://thesaddlelightcenter.com/event/volunteer-training-february-2023/
LOCATION:Retama Equestrian Center
CATEGORIES:New Volunteer Training
ATTACH;FMTTYPE=image/jpeg:https://thesaddlelightcenter.com/wp-content/uploads/2015/09/RidersShowCase1520150530_0283-scaled.jpg
END:VEVENT
BEGIN:VEVENT
DTSTART;TZID=America/Chicago:20230114T100000
DTEND;TZID=America/Chicago:20230114T130000
DTSTAMP:20260424T030718
CREATED:20221220T031635Z
LAST-MODIFIED:20221220T032530Z
UID:5250-1673690400-1673701200@thesaddlelightcenter.com
SUMMARY:Volunteer Training – January 2023
DESCRIPTION:Please join us to learn the ropes of being a volunteer at the Saddle Light Center. \nLearn More: https://thesaddlelightcenter.com/how-to-help/volunteer/  \nQuestions? volcoor@sbcglobal.net
URL:https://thesaddlelightcenter.com/event/volunteer-training-january-2023/
LOCATION:Retama Equestrian Center
CATEGORIES:New Volunteer Training
ATTACH;FMTTYPE=image/jpeg:https://thesaddlelightcenter.com/wp-content/uploads/2015/09/RidersShowCase1520150530_0283-scaled.jpg
END:VEVENT
BEGIN:VEVENT
DTSTART;VALUE=DATE:20221219
DTEND;VALUE=DATE:20230103
DTSTAMP:20260424T030718
CREATED:20220214T020306Z
LAST-MODIFIED:20220214T020306Z
UID:4477-1671408000-1672703999@thesaddlelightcenter.com
SUMMARY:Winter Holiday Break 2022
DESCRIPTION:
URL:https://thesaddlelightcenter.com/event/winter-holiday-break-2022/
CATEGORIES:Break
ATTACH;FMTTYPE=image/jpeg:https://thesaddlelightcenter.com/wp-content/uploads/2015/09/RidersShowCase1520150530_0283-scaled.jpg
END:VEVENT
BEGIN:VEVENT
DTSTART;TZID=America/Chicago:20221217T100000
DTEND;TZID=America/Chicago:20221217T110000
DTSTAMP:20260424T030718
CREATED:20220202T054824Z
LAST-MODIFIED:20220918T062234Z
UID:4413-1671271200-1671274800@thesaddlelightcenter.com
SUMMARY:Volunteer Training – December 2022
DESCRIPTION:Please join us to learn the ropes of being a volunteer at the Saddle Light Center. \nLearn More: https://thesaddlelightcenter.com/how-to-help/volunteer/  \nQuestions? volcoor@sbcglobal.net
URL:https://thesaddlelightcenter.com/event/volunteer-training-december-2022/
LOCATION:Retama Equestrian Center
CATEGORIES:New Volunteer Training
ATTACH;FMTTYPE=image/jpeg:https://thesaddlelightcenter.com/wp-content/uploads/2015/09/RidersShowCase1520150530_0283-scaled.jpg
END:VEVENT
BEGIN:VEVENT
DTSTART;TZID=America/Chicago:20221210T160000
DTEND;TZID=America/Chicago:20221210T190000
DTSTAMP:20260424T030718
CREATED:20220214T014321Z
LAST-MODIFIED:20220214T014545Z
UID:4455-1670688000-1670698800@thesaddlelightcenter.com
SUMMARY:Christmas Party 2022
DESCRIPTION:Christmas Party at Morgan’s Wonderland: December 10\, 2022\, 4:00 – 7:00 P.M.
URL:https://thesaddlelightcenter.com/event/christmas-party-2022/
LOCATION:Morgan’s Wonderland\, 5223 David Edwards Dr\,\, San Antonio\, TX\, 78233\, United States
CATEGORIES:Special Events
ATTACH;FMTTYPE=image/jpeg:https://thesaddlelightcenter.com/wp-content/uploads/2015/08/Christmas-Party-2013-011.jpg
END:VEVENT
BEGIN:VEVENT
DTSTART;VALUE=DATE:20221128
DTEND;VALUE=DATE:20230311
DTSTAMP:20260424T030718
CREATED:20220214T015409Z
LAST-MODIFIED:20220214T015409Z
UID:4467-1669593600-1678492799@thesaddlelightcenter.com
SUMMARY:Winter Session 2022
DESCRIPTION:
URL:https://thesaddlelightcenter.com/event/winter-session-2022/
CATEGORIES:Session Operating Season
ATTACH;FMTTYPE=image/jpeg:https://thesaddlelightcenter.com/wp-content/uploads/2015/09/RidersShowCase1520150530_0283-scaled.jpg
END:VEVENT
BEGIN:VEVENT
DTSTART;VALUE=DATE:20221121
DTEND;VALUE=DATE:20221126
DTSTAMP:20260424T030718
CREATED:20220214T020104Z
LAST-MODIFIED:20220214T020104Z
UID:4475-1668988800-1669420799@thesaddlelightcenter.com
SUMMARY:Thanksgiving Break 2022
DESCRIPTION:
URL:https://thesaddlelightcenter.com/event/thanksgiving-break-2022/
CATEGORIES:Break
ATTACH;FMTTYPE=image/jpeg:https://thesaddlelightcenter.com/wp-content/uploads/2015/09/RidersShowCase1520150530_0283-scaled.jpg
END:VEVENT
BEGIN:VEVENT
DTSTART;TZID=America/Chicago:20221112T100000
DTEND;TZID=America/Chicago:20221112T110000
DTSTAMP:20260424T030718
CREATED:20220202T055019Z
LAST-MODIFIED:20220918T062403Z
UID:4415-1668247200-1668250800@thesaddlelightcenter.com
SUMMARY:Volunteer Training – November 2022
DESCRIPTION:Please join us to learn the ropes of being a volunteer at the Saddle Light Center. \nLearn More: https://thesaddlelightcenter.com/how-to-help/volunteer/  \nQuestions? volcoor@sbcglobal.net
URL:https://thesaddlelightcenter.com/event/volunteer-training-november-2022/
LOCATION:Retama Equestrian Center
CATEGORIES:New Volunteer Training
ATTACH;FMTTYPE=image/jpeg:https://thesaddlelightcenter.com/wp-content/uploads/2015/09/RidersShowCase1520150530_0283-scaled.jpg
END:VEVENT
END:VCALENDAR