BEGIN:VCALENDAR
VERSION:2.0
PRODID:-//The Saddle Light Center - ECPv6.15.17.1//NONSGML v1.0//EN
CALSCALE:GREGORIAN
METHOD:PUBLISH
X-WR-CALNAME:The Saddle Light Center
X-ORIGINAL-URL:https://thesaddlelightcenter.com
X-WR-CALDESC:Events for The Saddle Light Center
REFRESH-INTERVAL;VALUE=DURATION:PT1H
X-Robots-Tag:noindex
X-PUBLISHED-TTL:PT1H
BEGIN:VTIMEZONE
TZID:America/Chicago
BEGIN:DAYLIGHT
TZOFFSETFROM:-0600
TZOFFSETTO:-0500
TZNAME:CDT
DTSTART:20200308T080000
END:DAYLIGHT
BEGIN:STANDARD
TZOFFSETFROM:-0500
TZOFFSETTO:-0600
TZNAME:CST
DTSTART:20201101T070000
END:STANDARD
BEGIN:DAYLIGHT
TZOFFSETFROM:-0600
TZOFFSETTO:-0500
TZNAME:CDT
DTSTART:20210314T080000
END:DAYLIGHT
BEGIN:STANDARD
TZOFFSETFROM:-0500
TZOFFSETTO:-0600
TZNAME:CST
DTSTART:20211107T070000
END:STANDARD
BEGIN:DAYLIGHT
TZOFFSETFROM:-0600
TZOFFSETTO:-0500
TZNAME:CDT
DTSTART:20220313T080000
END:DAYLIGHT
BEGIN:STANDARD
TZOFFSETFROM:-0500
TZOFFSETTO:-0600
TZNAME:CST
DTSTART:20221106T070000
END:STANDARD
BEGIN:DAYLIGHT
TZOFFSETFROM:-0600
TZOFFSETTO:-0500
TZNAME:CDT
DTSTART:20230312T080000
END:DAYLIGHT
BEGIN:STANDARD
TZOFFSETFROM:-0500
TZOFFSETTO:-0600
TZNAME:CST
DTSTART:20231105T070000
END:STANDARD
END:VTIMEZONE
BEGIN:VEVENT
DTSTART;VALUE=DATE:20221121
DTEND;VALUE=DATE:20221126
DTSTAMP:20260424T070220
CREATED:20220214T020104Z
LAST-MODIFIED:20220214T020104Z
UID:4475-1668988800-1669420799@thesaddlelightcenter.com
SUMMARY:Thanksgiving Break 2022
DESCRIPTION:
URL:https://thesaddlelightcenter.com/event/thanksgiving-break-2022/
CATEGORIES:Break
ATTACH;FMTTYPE=image/jpeg:https://thesaddlelightcenter.com/wp-content/uploads/2015/09/RidersShowCase1520150530_0283-scaled.jpg
END:VEVENT
BEGIN:VEVENT
DTSTART;TZID=America/Chicago:20221112T100000
DTEND;TZID=America/Chicago:20221112T110000
DTSTAMP:20260424T070220
CREATED:20220202T055019Z
LAST-MODIFIED:20220918T062403Z
UID:4415-1668247200-1668250800@thesaddlelightcenter.com
SUMMARY:Volunteer Training – November 2022
DESCRIPTION:Please join us to learn the ropes of being a volunteer at the Saddle Light Center. \nLearn More: https://thesaddlelightcenter.com/how-to-help/volunteer/  \nQuestions? volcoor@sbcglobal.net
URL:https://thesaddlelightcenter.com/event/volunteer-training-november-2022/
LOCATION:Retama Equestrian Center
CATEGORIES:New Volunteer Training
ATTACH;FMTTYPE=image/jpeg:https://thesaddlelightcenter.com/wp-content/uploads/2015/09/RidersShowCase1520150530_0283-scaled.jpg
END:VEVENT
BEGIN:VEVENT
DTSTART;TZID=America/Chicago:20221022T100000
DTEND;TZID=America/Chicago:20221022T110000
DTSTAMP:20260424T070220
CREATED:20220202T055204Z
LAST-MODIFIED:20221010T232102Z
UID:4417-1666432800-1666436400@thesaddlelightcenter.com
SUMMARY:Volunteer Training – October 2022
DESCRIPTION:Please join us to learn the ropes of being a volunteer at the Saddle Light Center. \nLearn More: https://thesaddlelightcenter.com/how-to-help/volunteer/  \nQuestions? volcoor@sbcglobal.net
URL:https://thesaddlelightcenter.com/event/volunteer-training-october-2022/
LOCATION:Retama Equestrian Center
CATEGORIES:New Volunteer Training
ATTACH;FMTTYPE=image/jpeg:https://thesaddlelightcenter.com/wp-content/uploads/2015/09/RidersShowCase1520150530_0283-scaled.jpg
END:VEVENT
BEGIN:VEVENT
DTSTART;TZID=America/Chicago:20221016T130000
DTEND;TZID=America/Chicago:20221016T180000
DTSTAMP:20260424T070220
CREATED:20220223T043237Z
LAST-MODIFIED:20220920T023342Z
UID:4498-1665925200-1665943200@thesaddlelightcenter.com
SUMMARY:EquestFest 2022
DESCRIPTION:Tickets\nPre-Sale:\n\nAdults: $10\nChildren (ages 5-12): $5\n\nAt the Gate:\n\nAdult: $12\nChildren (ages 5-12): $7\n\n \nCome Join Us At EquestFest 2022 – A Rootin’ Tootin’ Day of Family Fun!\nOctober 16\, 2022\n1:00 P.M. – 6:00 P.M.\nHelotes Fairgrounds\n12210 Leslie Road \nEquestFest is our annual festival benefitting The Saddle Light Center for Therapeutic Horsemanship. The funds raised support our horses and equestrian programs. Further details are to be provided as the event approaches! We hope to see you all there. \nCOME OUT & HORSE AROUND! \nSchedule of Events\nOle West Gunfighters\nGreeting incoming people at the main gate – 1:00 – 2:00 PM\nGunfighter Show: 2:00 – 2:30 PM & 4:30 – 5:00 PM \nPetting Zoo\n(Left Side of the Cornyval Drive)\n2:00 – 5:00 PM \nRodeo Arena\nGuadalupe True Women Drill Team – 3:00 – 4:00 PM \nMain Stage\nJust 4 Fun Band – 1:00 – 2:30 OM\, 3:00 – 4:30 PM\, 5:00 – 6:00 PM \nStage 1\n(Right Side of the Fairgrounds)\nCibilo Animal Shelter- 1:00 – 6:00 PM \nStage 2\n(Left side of Fairgrounds)\nFace Painting – 1:00 – 6:00PM \n \nFamily Fun for Everyone Featuring:\n\nJust 4 Fun Band\n\nCover band playing songs you know & love from the 60s to Today’s Hits! Some of the great acts they cover include:\n\nDoobie Brothers\nPretenders\nThe Go-Go’s\nJimmy Buffett\nJohnny Cash\nHarry Styles\nBlondie\n\n\n\n\nOle’ West Gunfighters\n\nFeaturing a sheriff and old west cowboys\, Ole’ West Gunfighters’ thrilling stunt show features non-stop action and plenty of audience participation! The show is set in an old western town backdrop complete with Saloon\, Bank\, Sheriff’s Office and Jail\, the Livery Stable and the Trading Post!\n\n\n\nPerformance by The Guadalupe True Women Drill Team\nBake Sale\nSilent Auction\nPetting Zoo\nAir Bounce\nInflatable Obstacle Course\nInflatable Wrecking Ball and Soccer Dart Board\nLocal Vendors\nArtisan Crafts\nFood and Refreshments\n\nEquest Fest Downloadable Flyer\nDownload Flyer as PDF \nPhotos \n\n\nVendors\nPlease contact us for pricing and information. \nSponsorship\n\nLooking to sponsor the event? Learn more here: https://thesaddlelightcenter.com/product/sponsor-an-event/
URL:https://thesaddlelightcenter.com/event/equestfest-2022/
LOCATION:Helotes Fairgrounds\, 12210 Leslie Rd\, Helotes\, TX\, 78023\, United States
CATEGORIES:Fundraisers,Special Events
ATTACH;FMTTYPE=image/jpeg:https://thesaddlelightcenter.com/wp-content/uploads/2015/08/Equestfest-logo.jpg
END:VEVENT
BEGIN:VEVENT
DTSTART;TZID=America/Chicago:20220917T100000
DTEND;TZID=America/Chicago:20220917T110000
DTSTAMP:20260424T070221
CREATED:20220202T055316Z
LAST-MODIFIED:20220918T062716Z
UID:4419-1663408800-1663412400@thesaddlelightcenter.com
SUMMARY:Volunteer Training – September 2022
DESCRIPTION:Please join us to learn the ropes of being a volunteer at the Saddle Light Center. \nLearn More: https://thesaddlelightcenter.com/how-to-help/volunteer/  \nQuestions? volcoor@sbcglobal.net
URL:https://thesaddlelightcenter.com/event/volunteer-training-september-2022/
LOCATION:Retama Equestrian Center
CATEGORIES:New Volunteer Training
ATTACH;FMTTYPE=image/jpeg:https://thesaddlelightcenter.com/wp-content/uploads/2015/09/RidersShowCase1520150530_0283-scaled.jpg
END:VEVENT
BEGIN:VEVENT
DTSTART;VALUE=DATE:20220906
DTEND;VALUE=DATE:20221126
DTSTAMP:20260424T070221
CREATED:20220214T015313Z
LAST-MODIFIED:20240910T044745Z
UID:4465-1662422400-1669420799@thesaddlelightcenter.com
SUMMARY:Fall Session 2022
DESCRIPTION:
URL:https://thesaddlelightcenter.com/event/fall-session-2022/
CATEGORIES:Session Operating Season
ATTACH;FMTTYPE=image/jpeg:https://thesaddlelightcenter.com/wp-content/uploads/2015/09/RidersShowCase1520150530_0283-scaled.jpg
END:VEVENT
BEGIN:VEVENT
DTSTART;VALUE=DATE:20220815
DTEND;VALUE=DATE:20220906
DTSTAMP:20260424T070221
CREATED:20220214T015901Z
LAST-MODIFIED:20220214T015901Z
UID:4473-1660521600-1662422399@thesaddlelightcenter.com
SUMMARY:End-of-Summer Break 2022
DESCRIPTION:
URL:https://thesaddlelightcenter.com/event/end-of-summer-break-2022/
CATEGORIES:Break
ATTACH;FMTTYPE=image/jpeg:https://thesaddlelightcenter.com/wp-content/uploads/2015/09/RidersShowCase1520150530_0283-scaled.jpg
END:VEVENT
BEGIN:VEVENT
DTSTART;TZID=America/Chicago:20220813T100000
DTEND;TZID=America/Chicago:20220813T130000
DTSTAMP:20260424T070221
CREATED:20220202T055435Z
LAST-MODIFIED:20220202T055435Z
UID:4421-1660384800-1660395600@thesaddlelightcenter.com
SUMMARY:Volunteer Training – August 2022
DESCRIPTION:Please join us to learn the ropes of being a volunteer at the Saddle Light Center. \nLearn More: https://thesaddlelightcenter.com/how-to-help/volunteer/  \nQuestions? volcoor@sbcglobal.net
URL:https://thesaddlelightcenter.com/event/volunteer-training-august-2022/
LOCATION:Retama Equestrian Center
CATEGORIES:New Volunteer Training
ATTACH;FMTTYPE=image/jpeg:https://thesaddlelightcenter.com/wp-content/uploads/2015/09/RidersShowCase1520150530_0283-scaled.jpg
END:VEVENT
BEGIN:VEVENT
DTSTART;TZID=America/Chicago:20220716T100000
DTEND;TZID=America/Chicago:20220716T130000
DTSTAMP:20260424T070221
CREATED:20220202T055541Z
LAST-MODIFIED:20220202T055541Z
UID:4423-1657965600-1657976400@thesaddlelightcenter.com
SUMMARY:Volunteer Training – July 2022
DESCRIPTION:Please join us to learn the ropes of being a volunteer at the Saddle Light Center. \nLearn More: https://thesaddlelightcenter.com/how-to-help/volunteer/  \nQuestions? volcoor@sbcglobal.net
URL:https://thesaddlelightcenter.com/event/volunteer-training-july-2022/
LOCATION:Retama Equestrian Center
CATEGORIES:New Volunteer Training
ATTACH;FMTTYPE=image/jpeg:https://thesaddlelightcenter.com/wp-content/uploads/2015/09/RidersShowCase1520150530_0283-scaled.jpg
END:VEVENT
BEGIN:VEVENT
DTSTART;TZID=America/Chicago:20220618T100000
DTEND;TZID=America/Chicago:20220618T130000
DTSTAMP:20260424T070221
CREATED:20220202T055640Z
LAST-MODIFIED:20220202T055640Z
UID:4425-1655546400-1655557200@thesaddlelightcenter.com
SUMMARY:Volunteer Training – June 2022
DESCRIPTION:Please join us to learn the ropes of being a volunteer at the Saddle Light Center. \nLearn More: https://thesaddlelightcenter.com/how-to-help/volunteer/  \nQuestions? volcoor@sbcglobal.net
URL:https://thesaddlelightcenter.com/event/volunteer-training-june-2022/
LOCATION:Retama Equestrian Center
CATEGORIES:New Volunteer Training
ATTACH;FMTTYPE=image/jpeg:https://thesaddlelightcenter.com/wp-content/uploads/2015/09/RidersShowCase1520150530_0283-scaled.jpg
END:VEVENT
BEGIN:VEVENT
DTSTART;VALUE=DATE:20220523
DTEND;VALUE=DATE:20220604
DTSTAMP:20260424T070221
CREATED:20220214T015728Z
LAST-MODIFIED:20220214T015728Z
UID:4471-1653264000-1654300799@thesaddlelightcenter.com
SUMMARY:End-of-School Break 2022
DESCRIPTION:
URL:https://thesaddlelightcenter.com/event/end-of-school-break-2022/
CATEGORIES:Break
ATTACH;FMTTYPE=image/jpeg:https://thesaddlelightcenter.com/wp-content/uploads/2015/09/RidersShowCase1520150530_0283-scaled.jpg
END:VEVENT
BEGIN:VEVENT
DTSTART;TZID=America/Chicago:20220507T100000
DTEND;TZID=America/Chicago:20220507T130000
DTSTAMP:20260424T070221
CREATED:20220202T055754Z
LAST-MODIFIED:20220202T055754Z
UID:4427-1651917600-1651928400@thesaddlelightcenter.com
SUMMARY:Volunteer Training – May 2022
DESCRIPTION:Please join us to learn the ropes of being a volunteer at the Saddle Light Center. \nLearn More: https://thesaddlelightcenter.com/how-to-help/volunteer/  \nQuestions? volcoor@sbcglobal.net
URL:https://thesaddlelightcenter.com/event/volunteer-training-may-2022/
LOCATION:Retama Equestrian Center
CATEGORIES:New Volunteer Training
ATTACH;FMTTYPE=image/jpeg:https://thesaddlelightcenter.com/wp-content/uploads/2015/09/RidersShowCase1520150530_0283-scaled.jpg
END:VEVENT
BEGIN:VEVENT
DTSTART;TZID=America/Chicago:20220423T100000
DTEND;TZID=America/Chicago:20220423T130000
DTSTAMP:20260424T070221
CREATED:20220202T055903Z
LAST-MODIFIED:20220412T030119Z
UID:4429-1650708000-1650718800@thesaddlelightcenter.com
SUMMARY:Volunteer Training – April 2022
DESCRIPTION:Please join us to learn the ropes of being a volunteer at the Saddle Light Center. \nLearn More: https://thesaddlelightcenter.com/how-to-help/volunteer/  \nQuestions? volcoor@sbcglobal.net
URL:https://thesaddlelightcenter.com/event/volunteer-training-april-2022/
LOCATION:Retama Equestrian Center
CATEGORIES:New Volunteer Training
ATTACH;FMTTYPE=image/jpeg:https://thesaddlelightcenter.com/wp-content/uploads/2015/09/RidersShowCase1520150530_0283-scaled.jpg
END:VEVENT
BEGIN:VEVENT
DTSTART;TZID=America/Chicago:20220402T140000
DTEND;TZID=America/Chicago:20220402T160000
DTSTAMP:20260424T070221
CREATED:20220202T060403Z
LAST-MODIFIED:20220202T060429Z
UID:4437-1648908000-1648915200@thesaddlelightcenter.com
SUMMARY:Horse Handler Training Classes (for Current Volunteers) - April 2022
DESCRIPTION:Learn More: https://thesaddlelightcenter.com/how-to-help/volunteer/  \nQuestions? volcoor@sbcglobal.net
URL:https://thesaddlelightcenter.com/event/horse-handler-training-classes-for-current-volunteers-april-2022/
CATEGORIES:Horse Handler Training
ATTACH;FMTTYPE=image/jpeg:https://thesaddlelightcenter.com/wp-content/uploads/2015/09/RidersShowCase1520150530_0283-scaled.jpg
END:VEVENT
BEGIN:VEVENT
DTSTART;TZID=America/Chicago:20220326T100000
DTEND;TZID=America/Chicago:20220326T130000
DTSTAMP:20260424T070221
CREATED:20220202T060034Z
LAST-MODIFIED:20220202T060034Z
UID:4431-1648288800-1648299600@thesaddlelightcenter.com
SUMMARY:Volunteer Training – March 2022
DESCRIPTION:Please join us to learn the ropes of being a volunteer at the Saddle Light Center. \nLearn More: https://thesaddlelightcenter.com/how-to-help/volunteer/  \nQuestions? volcoor@sbcglobal.net
URL:https://thesaddlelightcenter.com/event/volunteer-training-march-2022/
LOCATION:Retama Equestrian Center
CATEGORIES:New Volunteer Training
ATTACH;FMTTYPE=image/jpeg:https://thesaddlelightcenter.com/wp-content/uploads/2015/09/RidersShowCase1520150530_0283-scaled.jpg
END:VEVENT
BEGIN:VEVENT
DTSTART;VALUE=DATE:20220321
DTEND;VALUE=DATE:20220604
DTSTAMP:20260424T070221
CREATED:20220214T015021Z
LAST-MODIFIED:20220214T015021Z
UID:4461-1647820800-1654300799@thesaddlelightcenter.com
SUMMARY:Spring Session 2022
DESCRIPTION:
URL:https://thesaddlelightcenter.com/event/spring-session-2022/
CATEGORIES:Session Operating Season
ATTACH;FMTTYPE=image/jpeg:https://thesaddlelightcenter.com/wp-content/uploads/2015/09/RidersShowCase1520150530_0283-scaled.jpg
END:VEVENT
BEGIN:VEVENT
DTSTART;VALUE=DATE:20220314
DTEND;VALUE=DATE:20220319
DTSTAMP:20260424T070221
CREATED:20220214T015501Z
LAST-MODIFIED:20220214T015501Z
UID:4469-1647216000-1647647999@thesaddlelightcenter.com
SUMMARY:Spring Break 2022
DESCRIPTION:
URL:https://thesaddlelightcenter.com/event/spring-break-2022/
CATEGORIES:Break
ATTACH;FMTTYPE=image/jpeg:https://thesaddlelightcenter.com/wp-content/uploads/2015/09/RidersShowCase1520150530_0283-scaled.jpg
END:VEVENT
BEGIN:VEVENT
DTSTART;TZID=America/Chicago:20220219T100000
DTEND;TZID=America/Chicago:20220219T130000
DTSTAMP:20260424T070221
CREATED:20220202T060134Z
LAST-MODIFIED:20220202T060134Z
UID:4433-1645264800-1645275600@thesaddlelightcenter.com
SUMMARY:Volunteer Training – February 2022
DESCRIPTION:Please join us to learn the ropes of being a volunteer at the Saddle Light Center. \nLearn More: https://thesaddlelightcenter.com/how-to-help/volunteer/  \nQuestions? volcoor@sbcglobal.net
URL:https://thesaddlelightcenter.com/event/volunteer-training-february-2022/
LOCATION:Retama Equestrian Center
CATEGORIES:New Volunteer Training
ATTACH;FMTTYPE=image/jpeg:https://thesaddlelightcenter.com/wp-content/uploads/2015/09/RidersShowCase1520150530_0283-scaled.jpg
END:VEVENT
BEGIN:VEVENT
DTSTART;TZID=America/Chicago:20220115T100000
DTEND;TZID=America/Chicago:20220115T130000
DTSTAMP:20260424T070221
CREATED:20220202T060226Z
LAST-MODIFIED:20220202T060226Z
UID:4435-1642240800-1642251600@thesaddlelightcenter.com
SUMMARY:Volunteer Training – January 2022
DESCRIPTION:Please join us to learn the ropes of being a volunteer at the Saddle Light Center. \nLearn More: https://thesaddlelightcenter.com/how-to-help/volunteer/  \nQuestions? volcoor@sbcglobal.net
URL:https://thesaddlelightcenter.com/event/volunteer-training-january-2022/
LOCATION:Retama Equestrian Center
CATEGORIES:New Volunteer Training
ATTACH;FMTTYPE=image/jpeg:https://thesaddlelightcenter.com/wp-content/uploads/2015/09/RidersShowCase1520150530_0283-scaled.jpg
END:VEVENT
BEGIN:VEVENT
DTSTART;VALUE=DATE:20211220
DTEND;VALUE=DATE:20220103
DTSTAMP:20260424T070221
CREATED:20210527T001303Z
LAST-MODIFIED:20210527T001303Z
UID:3892-1639958400-1641167999@thesaddlelightcenter.com
SUMMARY:Christmas/ New Year's / Winter Holiday 2021
DESCRIPTION:
URL:https://thesaddlelightcenter.com/event/christmas-new-years-winter-holiday-2021/
CATEGORIES:Break
ATTACH;FMTTYPE=image/jpeg:https://thesaddlelightcenter.com/wp-content/uploads/2015/09/RidersShowCase1520150530_0283-scaled.jpg
END:VEVENT
BEGIN:VEVENT
DTSTART;TZID=America/Chicago:20211211T100000
DTEND;TZID=America/Chicago:20211211T130000
DTSTAMP:20260424T070221
CREATED:20210113T204048Z
LAST-MODIFIED:20210113T204048Z
UID:3810-1639216800-1639227600@thesaddlelightcenter.com
SUMMARY:Volunteer Training – December 2021
DESCRIPTION:Please join us to learn the ropes of being a volunteer at the Saddle Light Center. \nLearn More: https://thesaddlelightcenter.com/how-to-help/volunteer/  \nQuestions? volcoor@sbcglobal.net
URL:https://thesaddlelightcenter.com/event/volunteer-training-december-2021/
LOCATION:Retama Equestrian Center
CATEGORIES:New Volunteer Training
ATTACH;FMTTYPE=image/jpeg:https://thesaddlelightcenter.com/wp-content/uploads/2015/09/RidersShowCase1520150530_0283-scaled.jpg
END:VEVENT
BEGIN:VEVENT
DTSTART;TZID=America/Chicago:20211205T160000
DTEND;TZID=America/Chicago:20211205T190000
DTSTAMP:20260424T070221
CREATED:20210113T211123Z
LAST-MODIFIED:20210113T211123Z
UID:3847-1638720000-1638730800@thesaddlelightcenter.com
SUMMARY:Christmas Party 2021
DESCRIPTION:Please join us to celebrate the season. More information to come.
URL:https://thesaddlelightcenter.com/event/christmas-party-2021/
CATEGORIES:Special Events
ATTACH;FMTTYPE=image/jpeg:https://thesaddlelightcenter.com/wp-content/uploads/2015/08/Christmas-Party-2013-011.jpg
END:VEVENT
BEGIN:VEVENT
DTSTART;VALUE=DATE:20211129
DTEND;VALUE=DATE:20220305
DTSTAMP:20260424T070221
CREATED:20210527T000148Z
LAST-MODIFIED:20210527T000148Z
UID:3881-1638144000-1646438399@thesaddlelightcenter.com
SUMMARY:Winter Session 2021
DESCRIPTION:Operating Session
URL:https://thesaddlelightcenter.com/event/winter-session-2021/
CATEGORIES:Session Operating Season
ATTACH;FMTTYPE=image/jpeg:https://thesaddlelightcenter.com/wp-content/uploads/2015/09/RidersShowCase1520150530_0283-scaled.jpg
END:VEVENT
BEGIN:VEVENT
DTSTART;VALUE=DATE:20211122
DTEND;VALUE=DATE:20211127
DTSTAMP:20260424T070221
CREATED:20210527T001033Z
LAST-MODIFIED:20210527T001120Z
UID:3889-1637539200-1637971199@thesaddlelightcenter.com
SUMMARY:Thanksgiving Break
DESCRIPTION:
URL:https://thesaddlelightcenter.com/event/thanksgiving-break-2021/
CATEGORIES:Break
ATTACH;FMTTYPE=image/jpeg:https://thesaddlelightcenter.com/wp-content/uploads/2015/09/RidersShowCase1520150530_0283-scaled.jpg
END:VEVENT
BEGIN:VEVENT
DTSTART;TZID=America/Chicago:20211113T100000
DTEND;TZID=America/Chicago:20211113T130000
DTSTAMP:20260424T070221
CREATED:20210113T204302Z
LAST-MODIFIED:20210113T204302Z
UID:3811-1636797600-1636808400@thesaddlelightcenter.com
SUMMARY:Volunteer Training – November 2021
DESCRIPTION:Please join us to learn the ropes of being a volunteer at the Saddle Light Center. \nLearn More: https://thesaddlelightcenter.com/how-to-help/volunteer/  \nQuestions? volcoor@sbcglobal.net
URL:https://thesaddlelightcenter.com/event/volunteer-training-november-2021/
LOCATION:Retama Equestrian Center
CATEGORIES:New Volunteer Training
ATTACH;FMTTYPE=image/jpeg:https://thesaddlelightcenter.com/wp-content/uploads/2015/09/RidersShowCase1520150530_0283-scaled.jpg
END:VEVENT
BEGIN:VEVENT
DTSTART;TZID=America/Chicago:20211016T100000
DTEND;TZID=America/Chicago:20211016T130000
DTSTAMP:20260424T070221
CREATED:20210113T204514Z
LAST-MODIFIED:20210113T204514Z
UID:3813-1634378400-1634389200@thesaddlelightcenter.com
SUMMARY:Volunteer Training – October 2021
DESCRIPTION:Please join us to learn the ropes of being a volunteer at the Saddle Light Center. \nLearn More: https://thesaddlelightcenter.com/how-to-help/volunteer/  \nQuestions? volcoor@sbcglobal.net
URL:https://thesaddlelightcenter.com/event/volunteer-training-october-2021/
LOCATION:Retama Equestrian Center
CATEGORIES:New Volunteer Training
ATTACH;FMTTYPE=image/jpeg:https://thesaddlelightcenter.com/wp-content/uploads/2015/09/RidersShowCase1520150530_0283-scaled.jpg
END:VEVENT
BEGIN:VEVENT
DTSTART;TZID=America/Chicago:20211010T130000
DTEND;TZID=America/Chicago:20211010T180000
DTSTAMP:20260424T070221
CREATED:20210823T162111Z
LAST-MODIFIED:20211008T191827Z
UID:4056-1633870800-1633888800@thesaddlelightcenter.com
SUMMARY:EquestFest 2021
DESCRIPTION:Buy Tickets Now \nA Rootin’ Tootin’ Day of Family Fun ! \nEquestFest is our annual festival benefitting The Saddle Light Center for Therapeutic Horsemanship. The funds raised support our horses and equestrian programs. \nActivities\n\nPetting Zoo\nGames\nArtisan Crafts\nFace Painting\nBounce House\nFood\nSilent Auction\nPerformances by Two Tons of Steel Band\nPistol Packing Paula\nThe Guadalupe True Women Drill Team\n\nActivities: $1 each \n  \nSchedule of Events\n\nDownload as PDF \nPhotos \n\n\n\nDownload Flyer as PDF \n  \nLooking to sponsor the event? Learn more here: https://thesaddlelightcenter.com/product/sponsor-an-event/ \n  \nCOME OUT & HORSE AROUND!\n  \nTickets\nAdvance:\n\nAdults- $10\nChildren (ages 5-12) -$5\n\nAt the Gate:\n\nAdult- $12\nChildren (ages 5-12) -$7\n\nBuy Tickets Now\n(Third party website) \n 
URL:https://thesaddlelightcenter.com/event/equestfest-2021/
LOCATION:Helotes Fairgrounds\, 12210 Leslie Rd\, Helotes\, TX\, 78023\, United States
CATEGORIES:Fundraisers,Special Events
ATTACH;FMTTYPE=image/jpeg:https://thesaddlelightcenter.com/wp-content/uploads/2021/08/equestfest-2021-banner.jpg
END:VEVENT
BEGIN:VEVENT
DTSTART;TZID=America/Chicago:20210918T100000
DTEND;TZID=America/Chicago:20210918T130000
DTSTAMP:20260424T070221
CREATED:20210113T204719Z
LAST-MODIFIED:20210113T204719Z
UID:3814-1631959200-1631970000@thesaddlelightcenter.com
SUMMARY:Volunteer Training – September 2021
DESCRIPTION:Please join us to learn the ropes of being a volunteer at the Saddle Light Center. \nLearn More: https://thesaddlelightcenter.com/how-to-help/volunteer/  \nQuestions? volcoor@sbcglobal.net
URL:https://thesaddlelightcenter.com/event/volunteer-training-september-2021/
LOCATION:Retama Equestrian Center
CATEGORIES:New Volunteer Training
ATTACH;FMTTYPE=image/jpeg:https://thesaddlelightcenter.com/wp-content/uploads/2015/09/RidersShowCase1520150530_0283-scaled.jpg
END:VEVENT
BEGIN:VEVENT
DTSTART;VALUE=DATE:20210816
DTEND;VALUE=DATE:20210907
DTSTAMP:20260424T070221
CREATED:20210527T000911Z
LAST-MODIFIED:20210527T000911Z
UID:3887-1629072000-1630972799@thesaddlelightcenter.com
SUMMARY:End of Summer Break 2021
DESCRIPTION:
URL:https://thesaddlelightcenter.com/event/end-of-summer-break-2021/
CATEGORIES:Break
ATTACH;FMTTYPE=image/jpeg:https://thesaddlelightcenter.com/wp-content/uploads/2015/09/RidersShowCase1520150530_0283-scaled.jpg
END:VEVENT
BEGIN:VEVENT
DTSTART;TZID=America/Chicago:20210814T100000
DTEND;TZID=America/Chicago:20210814T130000
DTSTAMP:20260424T070221
CREATED:20210113T205025Z
LAST-MODIFIED:20210113T205025Z
UID:3812-1628935200-1628946000@thesaddlelightcenter.com
SUMMARY:Volunteer Training – August 2021
DESCRIPTION:Please join us to learn the ropes of being a volunteer at the Saddle Light Center. \nLearn More: https://thesaddlelightcenter.com/how-to-help/volunteer/  \nQuestions? volcoor@sbcglobal.net
URL:https://thesaddlelightcenter.com/event/volunteer-training-august-2021/
LOCATION:Retama Equestrian Center
CATEGORIES:New Volunteer Training
ATTACH;FMTTYPE=image/jpeg:https://thesaddlelightcenter.com/wp-content/uploads/2015/09/RidersShowCase1520150530_0283-scaled.jpg
END:VEVENT
END:VCALENDAR