BEGIN:VCALENDAR
VERSION:2.0
PRODID:-//The Saddle Light Center - ECPv6.15.17.1//NONSGML v1.0//EN
CALSCALE:GREGORIAN
METHOD:PUBLISH
X-WR-CALNAME:The Saddle Light Center
X-ORIGINAL-URL:https://thesaddlelightcenter.com
X-WR-CALDESC:Events for The Saddle Light Center
REFRESH-INTERVAL;VALUE=DURATION:PT1H
X-Robots-Tag:noindex
X-PUBLISHED-TTL:PT1H
BEGIN:VTIMEZONE
TZID:America/Chicago
BEGIN:DAYLIGHT
TZOFFSETFROM:-0600
TZOFFSETTO:-0500
TZNAME:CDT
DTSTART:20190310T080000
END:DAYLIGHT
BEGIN:STANDARD
TZOFFSETFROM:-0500
TZOFFSETTO:-0600
TZNAME:CST
DTSTART:20191103T070000
END:STANDARD
BEGIN:DAYLIGHT
TZOFFSETFROM:-0600
TZOFFSETTO:-0500
TZNAME:CDT
DTSTART:20200308T080000
END:DAYLIGHT
BEGIN:STANDARD
TZOFFSETFROM:-0500
TZOFFSETTO:-0600
TZNAME:CST
DTSTART:20201101T070000
END:STANDARD
BEGIN:DAYLIGHT
TZOFFSETFROM:-0600
TZOFFSETTO:-0500
TZNAME:CDT
DTSTART:20210314T080000
END:DAYLIGHT
BEGIN:STANDARD
TZOFFSETFROM:-0500
TZOFFSETTO:-0600
TZNAME:CST
DTSTART:20211107T070000
END:STANDARD
BEGIN:DAYLIGHT
TZOFFSETFROM:-0600
TZOFFSETTO:-0500
TZNAME:CDT
DTSTART:20220313T080000
END:DAYLIGHT
BEGIN:STANDARD
TZOFFSETFROM:-0500
TZOFFSETTO:-0600
TZNAME:CST
DTSTART:20221106T070000
END:STANDARD
END:VTIMEZONE
BEGIN:VEVENT
DTSTART;VALUE=DATE:20210308
DTEND;VALUE=DATE:20210313
DTSTAMP:20260424T070121
CREATED:20210527T000651Z
LAST-MODIFIED:20210527T000651Z
UID:3883-1615161600-1615593599@thesaddlelightcenter.com
SUMMARY:Spring Break 2021
DESCRIPTION:
URL:https://thesaddlelightcenter.com/event/spring-break-2021/
CATEGORIES:Break
ATTACH;FMTTYPE=image/jpeg:https://thesaddlelightcenter.com/wp-content/uploads/2015/09/RidersShowCase1520150530_0283-scaled.jpg
END:VEVENT
BEGIN:VEVENT
DTSTART;TZID=America/Chicago:20210227T100000
DTEND;TZID=America/Chicago:20210227T130000
DTSTAMP:20260424T070121
CREATED:20210113T210013Z
LAST-MODIFIED:20210219T221012Z
UID:3836-1614420000-1614430800@thesaddlelightcenter.com
SUMMARY:Volunteer Training – February 2021
DESCRIPTION:Please join us to learn the ropes of being a volunteer at the Saddle Light Center. \nLearn More: https://thesaddlelightcenter.com/how-to-help/volunteer/  \nQuestions? volcoor@sbcglobal.net
URL:https://thesaddlelightcenter.com/event/volunteer-training-february-2021/
LOCATION:Retama Equestrian Center
CATEGORIES:New Volunteer Training
ATTACH;FMTTYPE=image/jpeg:https://thesaddlelightcenter.com/wp-content/uploads/2015/09/RidersShowCase1520150530_0283-scaled.jpg
END:VEVENT
BEGIN:VEVENT
DTSTART;TZID=America/Chicago:20210123T140000
DTEND;TZID=America/Chicago:20210123T160000
DTSTAMP:20260424T070121
CREATED:20210119T214042Z
LAST-MODIFIED:20210119T214042Z
UID:3852-1611410400-1611417600@thesaddlelightcenter.com
SUMMARY:Horse Handler Training Classes (for Current Volunteers) - - January 2021
DESCRIPTION:Learn More: https://thesaddlelightcenter.com/how-to-help/volunteer/  \nQuestions? volcoor@sbcglobal.net
URL:https://thesaddlelightcenter.com/event/horse-handler-training-classes-for-current-volunteers-january-2021/
CATEGORIES:Horse Handler Training
ATTACH;FMTTYPE=image/jpeg:https://thesaddlelightcenter.com/wp-content/uploads/2015/09/RidersShowCase1520150530_0283-scaled.jpg
END:VEVENT
BEGIN:VEVENT
DTSTART;TZID=America/Chicago:20210116T100000
DTEND;TZID=America/Chicago:20210116T130000
DTSTAMP:20260424T070121
CREATED:20210113T210105Z
LAST-MODIFIED:20210113T210105Z
UID:3837-1610791200-1610802000@thesaddlelightcenter.com
SUMMARY:Volunteer Training – January 2021
DESCRIPTION:Please join us to learn the ropes of being a volunteer at the Saddle Light Center. \nLearn More: https://thesaddlelightcenter.com/how-to-help/volunteer/  \nQuestions? volcoor@sbcglobal.net
URL:https://thesaddlelightcenter.com/event/volunteer-training-january-2021/
LOCATION:Retama Equestrian Center
CATEGORIES:New Volunteer Training
ATTACH;FMTTYPE=image/jpeg:https://thesaddlelightcenter.com/wp-content/uploads/2015/09/RidersShowCase1520150530_0283-scaled.jpg
END:VEVENT
BEGIN:VEVENT
DTSTART;VALUE=DATE:20201221
DTEND;VALUE=DATE:20210104
DTSTAMP:20260424T070121
CREATED:20200316T230548Z
LAST-MODIFIED:20210527T000530Z
UID:3542-1608508800-1609718399@thesaddlelightcenter.com
SUMMARY:Christmas/New Year’s (Winter Holiday) 2020
DESCRIPTION:
URL:https://thesaddlelightcenter.com/event/christmasnew-years-winter-holiday-2020-2/
CATEGORIES:Break
ATTACH;FMTTYPE=image/jpeg:https://thesaddlelightcenter.com/wp-content/uploads/2015/09/RidersShowCase1520150530_0283-scaled.jpg
END:VEVENT
BEGIN:VEVENT
DTSTART;TZID=America/Chicago:20201212T100000
DTEND;TZID=America/Chicago:20201212T130000
DTSTAMP:20260424T070121
CREATED:20200106T031239Z
LAST-MODIFIED:20200106T031239Z
UID:3487-1607767200-1607778000@thesaddlelightcenter.com
SUMMARY:Volunteer Training - December
DESCRIPTION:Please join us to learn the ropes of being a volunteer at the Saddle Light Center. \nLearn More: https://thesaddlelightcenter.com/how-to-help/volunteer/  \nQuestions? volcoor@sbcglobal.net
URL:https://thesaddlelightcenter.com/event/volunteer-training-december-2/
LOCATION:Retama Equestrian Center
CATEGORIES:New Volunteer Training
ATTACH;FMTTYPE=image/jpeg:https://thesaddlelightcenter.com/wp-content/uploads/2015/09/RidersShowCase1520150530_0283-scaled.jpg
END:VEVENT
BEGIN:VEVENT
DTSTART;TZID=America/Chicago:20201206T160000
DTEND;TZID=America/Chicago:20201206T190000
DTSTAMP:20260424T070121
CREATED:20200316T231030Z
LAST-MODIFIED:20200901T231400Z
UID:3548-1607270400-1607281200@thesaddlelightcenter.com
SUMMARY:Christmas Party 2020 - CANCELLED
DESCRIPTION:This has been cancelled due to COVID-19.
URL:https://thesaddlelightcenter.com/event/christmas-party-2020/
CATEGORIES:Special Events
ATTACH;FMTTYPE=image/jpeg:https://thesaddlelightcenter.com/wp-content/uploads/2015/09/RidersShowCase1520150530_0283-scaled.jpg
END:VEVENT
BEGIN:VEVENT
DTSTART;TZID=America/Chicago:20201130T080000
DTEND;TZID=America/Chicago:20210305T170000
DTSTAMP:20260424T070121
CREATED:20200316T224738Z
LAST-MODIFIED:20200316T224738Z
UID:3529-1606723200-1614963600@thesaddlelightcenter.com
SUMMARY:Winter Session 2020  (and 2021)
DESCRIPTION:Operating Season
URL:https://thesaddlelightcenter.com/event/winter-session-2020/
CATEGORIES:Session Operating Season
ATTACH;FMTTYPE=image/jpeg:https://thesaddlelightcenter.com/wp-content/uploads/2015/09/RidersShowCase1520150530_0283-scaled.jpg
END:VEVENT
BEGIN:VEVENT
DTSTART;VALUE=DATE:20201130
DTEND;VALUE=DATE:20210306
DTSTAMP:20260424T070121
CREATED:20210526T235303Z
LAST-MODIFIED:20210526T235334Z
UID:3873-1606694400-1614988799@thesaddlelightcenter.com
SUMMARY:Winter Riding Session
DESCRIPTION:Operating Season
URL:https://thesaddlelightcenter.com/event/winter-riding-session/
CATEGORIES:Session Operating Season
ATTACH;FMTTYPE=image/jpeg:https://thesaddlelightcenter.com/wp-content/uploads/2015/09/RidersShowCase1520150530_0283-scaled.jpg
END:VEVENT
BEGIN:VEVENT
DTSTART;VALUE=DATE:20201123
DTEND;VALUE=DATE:20201128
DTSTAMP:20260424T070121
CREATED:20200316T230333Z
LAST-MODIFIED:20200316T230333Z
UID:3540-1606089600-1606521599@thesaddlelightcenter.com
SUMMARY:Thanksgiving Break 2020
DESCRIPTION:
URL:https://thesaddlelightcenter.com/event/thanksgiving-break-2020/
CATEGORIES:Break
ATTACH;FMTTYPE=image/jpeg:https://thesaddlelightcenter.com/wp-content/uploads/2015/09/RidersShowCase1520150530_0283-scaled.jpg
END:VEVENT
BEGIN:VEVENT
DTSTART;TZID=America/Chicago:20201117T140000
DTEND;TZID=America/Chicago:20201117T160000
DTSTAMP:20260424T070121
CREATED:20200108T033209Z
LAST-MODIFIED:20200108T033209Z
UID:3503-1605621600-1605628800@thesaddlelightcenter.com
SUMMARY:Horse Handler Training Classes (for Current Volunteers) - November
DESCRIPTION:Learn More: https://thesaddlelightcenter.com/how-to-help/volunteer/  \nQuestions? volcoor@sbcglobal.net
URL:https://thesaddlelightcenter.com/event/horse-handler-training-classes-current-volunteers-november/
CATEGORIES:Horse Handler Training
ATTACH;FMTTYPE=image/jpeg:https://thesaddlelightcenter.com/wp-content/uploads/2015/09/RidersShowCase1520150530_0283-scaled.jpg
END:VEVENT
BEGIN:VEVENT
DTSTART;TZID=America/Chicago:20201114T100000
DTEND;TZID=America/Chicago:20201114T130000
DTSTAMP:20260424T070121
CREATED:20200106T031136Z
LAST-MODIFIED:20200106T031136Z
UID:3484-1605348000-1605358800@thesaddlelightcenter.com
SUMMARY:Volunteer Training -  November
DESCRIPTION:Please join us to learn the ropes of being a volunteer at the Saddle Light Center. \nLearn More: https://thesaddlelightcenter.com/how-to-help/volunteer/  \nQuestions? volcoor@sbcglobal.net
URL:https://thesaddlelightcenter.com/event/volunteer-training-november-2/
LOCATION:Retama Equestrian Center
CATEGORIES:New Volunteer Training
ATTACH;FMTTYPE=image/jpeg:https://thesaddlelightcenter.com/wp-content/uploads/2015/09/RidersShowCase1520150530_0283-scaled.jpg
END:VEVENT
BEGIN:VEVENT
DTSTART;TZID=America/Chicago:20201114T080000
DTEND;TZID=America/Chicago:20201121T200000
DTSTAMP:20260424T070121
CREATED:20201113T031834Z
LAST-MODIFIED:20201113T032757Z
UID:3787-1605340800-1605988800@thesaddlelightcenter.com
SUMMARY:Virtual Silent Auction
DESCRIPTION:ANNOUNCING\nThe Saddle Light Center\nHoliday Online Auction Fundraiser!!!\n\nSaturday\, November 14\, 2020 open at 8:00 AM \nthrough \nSaturday\, November 21\, 2020 close at 8:00 PM \nOver 50 amazing items including horse gear\, decorative art\, themed baskets\, Western wear\, holiday items and more.  Tell your friends – tell your neighbors and help us reach our fundraising goals so we can continue to provide much-needed services for our community and the families and riders we serve.  \nTo view and bid on items\, log onto our website & register www.thesaddlelightcenter.com/auction \nAnd bid during the times listed above. \nThank you for your support and Happy Bidding!!!
URL:https://thesaddlelightcenter.com/event/virtual-silent-auction/
CATEGORIES:Fundraisers,Special Events
ATTACH;FMTTYPE=image/jpeg:https://thesaddlelightcenter.com/wp-content/uploads/2020/11/pexels-sora-shimazaki-5668473.jpg
END:VEVENT
BEGIN:VEVENT
DTSTART;TZID=America/Chicago:20201017T100000
DTEND;TZID=America/Chicago:20201017T130000
DTSTAMP:20260424T070121
CREATED:20200106T031011Z
LAST-MODIFIED:20200106T031011Z
UID:3481-1602928800-1602939600@thesaddlelightcenter.com
SUMMARY:Volunteer Training -  October
DESCRIPTION:Please join us to learn the ropes of being a volunteer at the Saddle Light Center. \nLearn More: https://thesaddlelightcenter.com/how-to-help/volunteer/  \nQuestions? volcoor@sbcglobal.net
URL:https://thesaddlelightcenter.com/event/volunteer-training-october-2/
LOCATION:Retama Equestrian Center
CATEGORIES:New Volunteer Training
ATTACH;FMTTYPE=image/jpeg:https://thesaddlelightcenter.com/wp-content/uploads/2015/09/RidersShowCase1520150530_0283-scaled.jpg
END:VEVENT
BEGIN:VEVENT
DTSTART;TZID=America/Chicago:20201004T140000
DTEND;TZID=America/Chicago:20201004T180000
DTSTAMP:20260424T070121
CREATED:20200316T230917Z
LAST-MODIFIED:20200826T231226Z
UID:3546-1601820000-1601834400@thesaddlelightcenter.com
SUMMARY:EquestFest - CANCELLED
DESCRIPTION:This event has been cancelled for this year due to COVID-19. If you would like to support us still\, please consider donating or participating in any virtual fundraiser events that may come up. Thank you for your understanding.
URL:https://thesaddlelightcenter.com/event/equestfest/
CATEGORIES:Special Events
ATTACH;FMTTYPE=image/jpeg:https://thesaddlelightcenter.com/wp-content/uploads/2015/09/RidersShowCase1520150530_0283-scaled.jpg
END:VEVENT
BEGIN:VEVENT
DTSTART;TZID=America/Chicago:20200919T100000
DTEND;TZID=America/Chicago:20200919T130000
DTSTAMP:20260424T070121
CREATED:20200106T030856Z
LAST-MODIFIED:20200106T031506Z
UID:3478-1600509600-1600520400@thesaddlelightcenter.com
SUMMARY:Volunteer Training - September
DESCRIPTION:Please join us to learn the ropes of being a volunteer at the Saddle Light Center. \nLearn More: https://thesaddlelightcenter.com/how-to-help/volunteer/  \nQuestions? volcoor@sbcglobal.net
URL:https://thesaddlelightcenter.com/event/volunteer-training-september-2/
LOCATION:Retama Equestrian Center
CATEGORIES:New Volunteer Training
ATTACH;FMTTYPE=image/jpeg:https://thesaddlelightcenter.com/wp-content/uploads/2015/09/RidersShowCase1520150530_0283-scaled.jpg
END:VEVENT
BEGIN:VEVENT
DTSTART;TZID=America/Chicago:20200912T140000
DTEND;TZID=America/Chicago:20200912T160000
DTSTAMP:20260424T070121
CREATED:20200108T032956Z
LAST-MODIFIED:20200108T032956Z
UID:3500-1599919200-1599926400@thesaddlelightcenter.com
SUMMARY:Horse Handler Training Classes (for Current Volunteers) - September
DESCRIPTION:Learn More: https://thesaddlelightcenter.com/how-to-help/volunteer/  \nQuestions? volcoor@sbcglobal.net
URL:https://thesaddlelightcenter.com/event/horse-handler-training-classes-current-volunteers-september/
CATEGORIES:Horse Handler Training
ATTACH;FMTTYPE=image/jpeg:https://thesaddlelightcenter.com/wp-content/uploads/2015/09/RidersShowCase1520150530_0283-scaled.jpg
END:VEVENT
BEGIN:VEVENT
DTSTART;VALUE=DATE:20200817
DTEND;VALUE=DATE:20200831
DTSTAMP:20260424T070121
CREATED:20200316T230128Z
LAST-MODIFIED:20200901T232554Z
UID:3537-1597622400-1598831999@thesaddlelightcenter.com
SUMMARY:End-of-Summer Break 2020
DESCRIPTION:
URL:https://thesaddlelightcenter.com/event/end-summer-break-2020/
CATEGORIES:Break
ATTACH;FMTTYPE=image/jpeg:https://thesaddlelightcenter.com/wp-content/uploads/2015/09/RidersShowCase1520150530_0283-scaled.jpg
END:VEVENT
BEGIN:VEVENT
DTSTART;TZID=America/Chicago:20200815T100000
DTEND;TZID=America/Chicago:20200815T130000
DTSTAMP:20260424T070121
CREATED:20200106T030741Z
LAST-MODIFIED:20200106T030741Z
UID:3475-1597485600-1597496400@thesaddlelightcenter.com
SUMMARY:Volunteer Training - August
DESCRIPTION:Please join us to learn the ropes of being a volunteer at the Saddle Light Center. \nLearn More: https://thesaddlelightcenter.com/how-to-help/volunteer/  \nQuestions? volcoor@sbcglobal.net
URL:https://thesaddlelightcenter.com/event/volunteer-training-august-3/
LOCATION:Retama Equestrian Center
CATEGORIES:New Volunteer Training
ATTACH;FMTTYPE=image/jpeg:https://thesaddlelightcenter.com/wp-content/uploads/2015/09/RidersShowCase1520150530_0283-scaled.jpg
END:VEVENT
BEGIN:VEVENT
DTSTART;TZID=America/Chicago:20200718T100000
DTEND;TZID=America/Chicago:20200718T130000
DTSTAMP:20260424T070121
CREATED:20200106T030624Z
LAST-MODIFIED:20200106T030624Z
UID:3472-1595066400-1595077200@thesaddlelightcenter.com
SUMMARY:Volunteer Training - July
DESCRIPTION:Please join us to learn the ropes of being a volunteer at the Saddle Light Center. \nLearn More: https://thesaddlelightcenter.com/how-to-help/volunteer/  \nQuestions? volcoor@sbcglobal.net
URL:https://thesaddlelightcenter.com/event/volunteer-training-july-3/
LOCATION:Retama Equestrian Center
CATEGORIES:New Volunteer Training
ATTACH;FMTTYPE=image/jpeg:https://thesaddlelightcenter.com/wp-content/uploads/2015/09/RidersShowCase1520150530_0283-scaled.jpg
END:VEVENT
BEGIN:VEVENT
DTSTART;TZID=America/Chicago:20200620T100000
DTEND;TZID=America/Chicago:20200620T130000
DTSTAMP:20260424T070121
CREATED:20200106T030517Z
LAST-MODIFIED:20200106T030517Z
UID:3469-1592647200-1592658000@thesaddlelightcenter.com
SUMMARY:Volunteer Training - June
DESCRIPTION:Please join us to learn the ropes of being a volunteer at the Saddle Light Center. \nLearn More: https://thesaddlelightcenter.com/how-to-help/volunteer/  \nQuestions? volcoor@sbcglobal.net
URL:https://thesaddlelightcenter.com/event/volunteer-training-june-3/
LOCATION:Retama Equestrian Center
CATEGORIES:New Volunteer Training
ATTACH;FMTTYPE=image/jpeg:https://thesaddlelightcenter.com/wp-content/uploads/2015/09/RidersShowCase1520150530_0283-scaled.jpg
END:VEVENT
BEGIN:VEVENT
DTSTART;TZID=America/Chicago:20200613T140000
DTEND;TZID=America/Chicago:20200613T160000
DTSTAMP:20260424T070121
CREATED:20200108T032757Z
LAST-MODIFIED:20200108T032757Z
UID:3497-1592056800-1592064000@thesaddlelightcenter.com
SUMMARY:Horse Handler Training Classes (for Current Volunteers) - June
DESCRIPTION:Learn More: https://thesaddlelightcenter.com/how-to-help/volunteer/  \nQuestions? volcoor@sbcglobal.net
URL:https://thesaddlelightcenter.com/event/horse-handler-training-classes-current-volunteers-june/
CATEGORIES:Horse Handler Training
ATTACH;FMTTYPE=image/jpeg:https://thesaddlelightcenter.com/wp-content/uploads/2015/09/RidersShowCase1520150530_0283-scaled.jpg
END:VEVENT
BEGIN:VEVENT
DTSTART;VALUE=DATE:20200601
DTEND;VALUE=DATE:20200815
DTSTAMP:20260424T070121
CREATED:20200316T224018Z
LAST-MODIFIED:20200316T224018Z
UID:3525-1590969600-1597449599@thesaddlelightcenter.com
SUMMARY:Summer Session 2020
DESCRIPTION:Operating Season
URL:https://thesaddlelightcenter.com/event/summer-session-2020/
CATEGORIES:Session Operating Season
ATTACH;FMTTYPE=image/jpeg:https://thesaddlelightcenter.com/wp-content/uploads/2015/09/RidersShowCase1520150530_0283-scaled.jpg
END:VEVENT
BEGIN:VEVENT
DTSTART;VALUE=DATE:20200518
DTEND;VALUE=DATE:20200530
DTSTAMP:20260424T070121
CREATED:20200316T225823Z
LAST-MODIFIED:20200316T225823Z
UID:3535-1589760000-1590796799@thesaddlelightcenter.com
SUMMARY:End-of-School Break 2020
DESCRIPTION:
URL:https://thesaddlelightcenter.com/event/end-school-break-2020/
CATEGORIES:Break
ATTACH;FMTTYPE=image/jpeg:https://thesaddlelightcenter.com/wp-content/uploads/2015/09/RidersShowCase1520150530_0283-scaled.jpg
END:VEVENT
BEGIN:VEVENT
DTSTART;VALUE=DATE:20200516
DTEND;VALUE=DATE:20200517
DTSTAMP:20260424T070121
CREATED:20200316T230749Z
LAST-MODIFIED:20200316T230749Z
UID:3544-1589587200-1589673599@thesaddlelightcenter.com
SUMMARY:Rider Showcase 2020
DESCRIPTION:
URL:https://thesaddlelightcenter.com/event/rider-showcase-2020/
CATEGORIES:Special Events
ATTACH;FMTTYPE=image/jpeg:https://thesaddlelightcenter.com/wp-content/uploads/2015/09/RidersShowCase1520150530_0283-scaled.jpg
END:VEVENT
BEGIN:VEVENT
DTSTART;TZID=America/Chicago:20200509T100000
DTEND;TZID=America/Chicago:20200509T130000
DTSTAMP:20260424T070121
CREATED:20200106T030405Z
LAST-MODIFIED:20200106T030405Z
UID:3465-1589018400-1589029200@thesaddlelightcenter.com
SUMMARY:Volunteer Training - May
DESCRIPTION:Please join us to learn the ropes of being a volunteer at the Saddle Light Center. \nLearn More: https://thesaddlelightcenter.com/how-to-help/volunteer/  \nQuestions? volcoor@sbcglobal.net
URL:https://thesaddlelightcenter.com/event/volunteer-training-may-3/
LOCATION:Retama Equestrian Center
CATEGORIES:New Volunteer Training
ATTACH;FMTTYPE=image/jpeg:https://thesaddlelightcenter.com/wp-content/uploads/2015/09/RidersShowCase1520150530_0283-scaled.jpg
END:VEVENT
BEGIN:VEVENT
DTSTART;TZID=America/Chicago:20200418T100000
DTEND;TZID=America/Chicago:20200418T130000
DTSTAMP:20260424T070121
CREATED:20200106T030256Z
LAST-MODIFIED:20200106T030256Z
UID:3462-1587204000-1587214800@thesaddlelightcenter.com
SUMMARY:Volunteer Training - April
DESCRIPTION:Please join us to learn the ropes of being a volunteer at the Saddle Light Center. \nLearn More: https://thesaddlelightcenter.com/how-to-help/volunteer/  \nQuestions? volcoor@sbcglobal.net
URL:https://thesaddlelightcenter.com/event/volunteer-training-april-3/
LOCATION:Retama Equestrian Center
CATEGORIES:New Volunteer Training
ATTACH;FMTTYPE=image/jpeg:https://thesaddlelightcenter.com/wp-content/uploads/2015/09/RidersShowCase1520150530_0283-scaled.jpg
END:VEVENT
BEGIN:VEVENT
DTSTART;TZID=America/Chicago:20200321T100000
DTEND;TZID=America/Chicago:20200321T130000
DTSTAMP:20260424T070121
CREATED:20200106T030137Z
LAST-MODIFIED:20200106T030137Z
UID:3459-1584784800-1584795600@thesaddlelightcenter.com
SUMMARY:Volunteer Training - March
DESCRIPTION:Please join us to learn the ropes of being a volunteer at the Saddle Light Center. \nLearn More: https://thesaddlelightcenter.com/how-to-help/volunteer/  \nQuestions? volcoor@sbcglobal.net
URL:https://thesaddlelightcenter.com/event/volunteer-training-march-3/
LOCATION:Retama Equestrian Center
CATEGORIES:New Volunteer Training
ATTACH;FMTTYPE=image/jpeg:https://thesaddlelightcenter.com/wp-content/uploads/2015/09/RidersShowCase1520150530_0283-scaled.jpg
END:VEVENT
BEGIN:VEVENT
DTSTART;VALUE=DATE:20200316
DTEND;VALUE=DATE:20200516
DTSTAMP:20260424T070121
CREATED:20200316T223655Z
LAST-MODIFIED:20200316T223711Z
UID:3522-1584316800-1589587199@thesaddlelightcenter.com
SUMMARY:Spring Session 2020
DESCRIPTION:Operating Season
URL:https://thesaddlelightcenter.com/event/spring-session-2020/
CATEGORIES:Session Operating Season
ATTACH;FMTTYPE=image/jpeg:https://thesaddlelightcenter.com/wp-content/uploads/2015/09/RidersShowCase1520150530_0283-scaled.jpg
END:VEVENT
BEGIN:VEVENT
DTSTART;VALUE=DATE:20200309
DTEND;VALUE=DATE:20200314
DTSTAMP:20260424T070121
CREATED:20200316T225529Z
LAST-MODIFIED:20200316T225529Z
UID:3533-1583712000-1584143999@thesaddlelightcenter.com
SUMMARY:Spring Break 2020
DESCRIPTION:
URL:https://thesaddlelightcenter.com/event/spring-break-2020/
CATEGORIES:Break
ATTACH;FMTTYPE=image/jpeg:https://thesaddlelightcenter.com/wp-content/uploads/2015/09/RidersShowCase1520150530_0283-scaled.jpg
END:VEVENT
END:VCALENDAR