BEGIN:VCALENDAR
VERSION:2.0
PRODID:-//The Saddle Light Center - ECPv6.15.17.1//NONSGML v1.0//EN
CALSCALE:GREGORIAN
METHOD:PUBLISH
X-WR-CALNAME:The Saddle Light Center
X-ORIGINAL-URL:https://thesaddlelightcenter.com
X-WR-CALDESC:Events for The Saddle Light Center
REFRESH-INTERVAL;VALUE=DURATION:PT1H
X-Robots-Tag:noindex
X-PUBLISHED-TTL:PT1H
BEGIN:VTIMEZONE
TZID:America/Chicago
BEGIN:DAYLIGHT
TZOFFSETFROM:-0600
TZOFFSETTO:-0500
TZNAME:CDT
DTSTART:20180311T080000
END:DAYLIGHT
BEGIN:STANDARD
TZOFFSETFROM:-0500
TZOFFSETTO:-0600
TZNAME:CST
DTSTART:20181104T070000
END:STANDARD
BEGIN:DAYLIGHT
TZOFFSETFROM:-0600
TZOFFSETTO:-0500
TZNAME:CDT
DTSTART:20190310T080000
END:DAYLIGHT
BEGIN:STANDARD
TZOFFSETFROM:-0500
TZOFFSETTO:-0600
TZNAME:CST
DTSTART:20191103T070000
END:STANDARD
BEGIN:DAYLIGHT
TZOFFSETFROM:-0600
TZOFFSETTO:-0500
TZNAME:CDT
DTSTART:20200308T080000
END:DAYLIGHT
BEGIN:STANDARD
TZOFFSETFROM:-0500
TZOFFSETTO:-0600
TZNAME:CST
DTSTART:20201101T070000
END:STANDARD
BEGIN:DAYLIGHT
TZOFFSETFROM:-0600
TZOFFSETTO:-0500
TZNAME:CDT
DTSTART:20210314T080000
END:DAYLIGHT
BEGIN:STANDARD
TZOFFSETFROM:-0500
TZOFFSETTO:-0600
TZNAME:CST
DTSTART:20211107T070000
END:STANDARD
END:VTIMEZONE
BEGIN:VEVENT
DTSTART;VALUE=DATE:20200516
DTEND;VALUE=DATE:20200517
DTSTAMP:20260425T090619
CREATED:20200316T230749Z
LAST-MODIFIED:20200316T230749Z
UID:3544-1589587200-1589673599@thesaddlelightcenter.com
SUMMARY:Rider Showcase 2020
DESCRIPTION:
URL:https://thesaddlelightcenter.com/event/rider-showcase-2020/
CATEGORIES:Special Events
ATTACH;FMTTYPE=image/jpeg:https://thesaddlelightcenter.com/wp-content/uploads/2015/09/RidersShowCase1520150530_0283-scaled.jpg
END:VEVENT
BEGIN:VEVENT
DTSTART;TZID=America/Chicago:20200509T100000
DTEND;TZID=America/Chicago:20200509T130000
DTSTAMP:20260425T090619
CREATED:20200106T030405Z
LAST-MODIFIED:20200106T030405Z
UID:3465-1589018400-1589029200@thesaddlelightcenter.com
SUMMARY:Volunteer Training - May
DESCRIPTION:Please join us to learn the ropes of being a volunteer at the Saddle Light Center. \nLearn More: https://thesaddlelightcenter.com/how-to-help/volunteer/  \nQuestions? volcoor@sbcglobal.net
URL:https://thesaddlelightcenter.com/event/volunteer-training-may-3/
LOCATION:Retama Equestrian Center
CATEGORIES:New Volunteer Training
ATTACH;FMTTYPE=image/jpeg:https://thesaddlelightcenter.com/wp-content/uploads/2015/09/RidersShowCase1520150530_0283-scaled.jpg
END:VEVENT
BEGIN:VEVENT
DTSTART;TZID=America/Chicago:20200418T100000
DTEND;TZID=America/Chicago:20200418T130000
DTSTAMP:20260425T090619
CREATED:20200106T030256Z
LAST-MODIFIED:20200106T030256Z
UID:3462-1587204000-1587214800@thesaddlelightcenter.com
SUMMARY:Volunteer Training - April
DESCRIPTION:Please join us to learn the ropes of being a volunteer at the Saddle Light Center. \nLearn More: https://thesaddlelightcenter.com/how-to-help/volunteer/  \nQuestions? volcoor@sbcglobal.net
URL:https://thesaddlelightcenter.com/event/volunteer-training-april-3/
LOCATION:Retama Equestrian Center
CATEGORIES:New Volunteer Training
ATTACH;FMTTYPE=image/jpeg:https://thesaddlelightcenter.com/wp-content/uploads/2015/09/RidersShowCase1520150530_0283-scaled.jpg
END:VEVENT
BEGIN:VEVENT
DTSTART;TZID=America/Chicago:20200321T100000
DTEND;TZID=America/Chicago:20200321T130000
DTSTAMP:20260425T090619
CREATED:20200106T030137Z
LAST-MODIFIED:20200106T030137Z
UID:3459-1584784800-1584795600@thesaddlelightcenter.com
SUMMARY:Volunteer Training - March
DESCRIPTION:Please join us to learn the ropes of being a volunteer at the Saddle Light Center. \nLearn More: https://thesaddlelightcenter.com/how-to-help/volunteer/  \nQuestions? volcoor@sbcglobal.net
URL:https://thesaddlelightcenter.com/event/volunteer-training-march-3/
LOCATION:Retama Equestrian Center
CATEGORIES:New Volunteer Training
ATTACH;FMTTYPE=image/jpeg:https://thesaddlelightcenter.com/wp-content/uploads/2015/09/RidersShowCase1520150530_0283-scaled.jpg
END:VEVENT
BEGIN:VEVENT
DTSTART;VALUE=DATE:20200316
DTEND;VALUE=DATE:20200516
DTSTAMP:20260425T090619
CREATED:20200316T223655Z
LAST-MODIFIED:20200316T223711Z
UID:3522-1584316800-1589587199@thesaddlelightcenter.com
SUMMARY:Spring Session 2020
DESCRIPTION:Operating Season
URL:https://thesaddlelightcenter.com/event/spring-session-2020/
CATEGORIES:Session Operating Season
ATTACH;FMTTYPE=image/jpeg:https://thesaddlelightcenter.com/wp-content/uploads/2015/09/RidersShowCase1520150530_0283-scaled.jpg
END:VEVENT
BEGIN:VEVENT
DTSTART;VALUE=DATE:20200309
DTEND;VALUE=DATE:20200314
DTSTAMP:20260425T090619
CREATED:20200316T225529Z
LAST-MODIFIED:20200316T225529Z
UID:3533-1583712000-1584143999@thesaddlelightcenter.com
SUMMARY:Spring Break 2020
DESCRIPTION:
URL:https://thesaddlelightcenter.com/event/spring-break-2020/
CATEGORIES:Break
ATTACH;FMTTYPE=image/jpeg:https://thesaddlelightcenter.com/wp-content/uploads/2015/09/RidersShowCase1520150530_0283-scaled.jpg
END:VEVENT
BEGIN:VEVENT
DTSTART;TZID=America/Chicago:20200307T140000
DTEND;TZID=America/Chicago:20200307T160000
DTSTAMP:20260425T090619
CREATED:20200108T032612Z
LAST-MODIFIED:20200108T032612Z
UID:3493-1583589600-1583596800@thesaddlelightcenter.com
SUMMARY:Horse Handler Training Classes (for Current Volunteers) - March
DESCRIPTION:Learn More: https://thesaddlelightcenter.com/how-to-help/volunteer/  \nQuestions? volcoor@sbcglobal.net
URL:https://thesaddlelightcenter.com/event/horse-handler-training-classes-current-volunteers-march/
CATEGORIES:Horse Handler Training
ATTACH;FMTTYPE=image/jpeg:https://thesaddlelightcenter.com/wp-content/uploads/2015/09/RidersShowCase1520150530_0283-scaled.jpg
END:VEVENT
BEGIN:VEVENT
DTSTART;TZID=America/Chicago:20200215T100000
DTEND;TZID=America/Chicago:20200215T130000
DTSTAMP:20260425T090619
CREATED:20200106T030006Z
LAST-MODIFIED:20200106T030006Z
UID:3456-1581760800-1581771600@thesaddlelightcenter.com
SUMMARY:Volunteer Training - February
DESCRIPTION:Please join us to learn the ropes of being a volunteer at the Saddle Light Center. \nLearn More: https://thesaddlelightcenter.com/how-to-help/volunteer/  \nQuestions? volcoor@sbcglobal.net
URL:https://thesaddlelightcenter.com/event/volunteer-training-february/
LOCATION:Retama Equestrian Center
CATEGORIES:New Volunteer Training
ATTACH;FMTTYPE=image/jpeg:https://thesaddlelightcenter.com/wp-content/uploads/2015/09/RidersShowCase1520150530_0283-scaled.jpg
END:VEVENT
BEGIN:VEVENT
DTSTART;TZID=America/Chicago:20200118T100000
DTEND;TZID=America/Chicago:20200118T130000
DTSTAMP:20260425T090619
CREATED:20200106T025732Z
LAST-MODIFIED:20200106T031257Z
UID:3452-1579341600-1579352400@thesaddlelightcenter.com
SUMMARY:Volunteer Training - January
DESCRIPTION:Please join us to learn the ropes of being a volunteer at the Saddle Light Center. \nLearn More: https://thesaddlelightcenter.com/how-to-help/volunteer/  \nQuestions? volcoor@sbcglobal.net
URL:https://thesaddlelightcenter.com/event/volunteer-training-january/
LOCATION:Retama Equestrian Center
CATEGORIES:New Volunteer Training
ATTACH;FMTTYPE=image/jpeg:https://thesaddlelightcenter.com/wp-content/uploads/2015/09/RidersShowCase1520150530_0283-scaled.jpg
END:VEVENT
BEGIN:VEVENT
DTSTART;TZID=America/Chicago:20191230T083000
DTEND;TZID=America/Chicago:20200101T160000
DTSTAMP:20260425T090619
CREATED:20190225T035812Z
LAST-MODIFIED:20190225T035812Z
UID:2662-1577694600-1577894400@thesaddlelightcenter.com
SUMMARY:Winter Break
DESCRIPTION:Office hours available.
URL:https://thesaddlelightcenter.com/event/winter-break-2/
CATEGORIES:Break + Office Hours
ATTACH;FMTTYPE=image/jpeg:https://thesaddlelightcenter.com/wp-content/uploads/2015/09/RidersShowCase1520150530_0283-scaled.jpg
END:VEVENT
BEGIN:VEVENT
DTSTART;TZID=America/Chicago:20191223T083000
DTEND;TZID=America/Chicago:20191227T160000
DTSTAMP:20260425T090619
CREATED:20190225T035657Z
LAST-MODIFIED:20190225T035657Z
UID:2660-1577089800-1577462400@thesaddlelightcenter.com
SUMMARY:Winter Break
DESCRIPTION:Office hours available.
URL:https://thesaddlelightcenter.com/event/winter-break/
CATEGORIES:Break + Office Hours
ATTACH;FMTTYPE=image/jpeg:https://thesaddlelightcenter.com/wp-content/uploads/2015/09/RidersShowCase1520150530_0283-scaled.jpg
END:VEVENT
BEGIN:VEVENT
DTSTART;TZID=America/Chicago:20191217T193000
DTEND;TZID=America/Chicago:20191217T203000
DTSTAMP:20260425T090619
CREATED:20190214T051130Z
LAST-MODIFIED:20190217T041529Z
UID:2643-1576611000-1576614600@thesaddlelightcenter.com
SUMMARY:SLC Board Meeting - December
DESCRIPTION:
URL:https://thesaddlelightcenter.com/event/slc-board-meeting-december/
LOCATION:Holy Trinity Presbyterian Church\, 16245 Nacogdoches Rd\, San Antonio\, TX\, 78247\, United States
CATEGORIES:Board Meeting
ATTACH;FMTTYPE=image/jpeg:https://thesaddlelightcenter.com/wp-content/uploads/2015/09/RidersShowCase1520150530_0283-scaled.jpg
END:VEVENT
BEGIN:VEVENT
DTSTART;TZID=America/Chicago:20191216T083000
DTEND;TZID=America/Chicago:20191220T160000
DTSTAMP:20260425T090619
CREATED:20190211T062822Z
LAST-MODIFIED:20190225T041605Z
UID:2588-1576485000-1576857600@thesaddlelightcenter.com
SUMMARY:Winter Break
DESCRIPTION:Office hours available. \nOffice closed on Sundays.
URL:https://thesaddlelightcenter.com/event/2020-winter-break/
CATEGORIES:Break + Office Hours
ATTACH;FMTTYPE=image/jpeg:https://thesaddlelightcenter.com/wp-content/uploads/2015/09/RidersShowCase1520150530_0283-scaled.jpg
END:VEVENT
BEGIN:VEVENT
DTSTART;TZID=America/Chicago:20191214T100000
DTEND;TZID=America/Chicago:20191214T130000
DTSTAMP:20260425T090619
CREATED:20190214T044827Z
LAST-MODIFIED:20190902T023037Z
UID:2609-1576317600-1576328400@thesaddlelightcenter.com
SUMMARY:Volunteer Training - December
DESCRIPTION:
URL:https://thesaddlelightcenter.com/event/volunteer-training-december/
CATEGORIES:New Volunteer Training,Training
ATTACH;FMTTYPE=image/jpeg:https://thesaddlelightcenter.com/wp-content/uploads/2015/09/RidersShowCase1520150530_0283-scaled.jpg
END:VEVENT
BEGIN:VEVENT
DTSTART;VALUE=DATE:20191208
DTEND;VALUE=DATE:20191209
DTSTAMP:20260425T090619
CREATED:20190211T050836Z
LAST-MODIFIED:20190211T064618Z
UID:2563-1575763200-1575849599@thesaddlelightcenter.com
SUMMARY:2019 Christmas Party
DESCRIPTION:More information coming soon!
URL:https://thesaddlelightcenter.com/event/2019-christmas-party/
CATEGORIES:Special Events
ATTACH;FMTTYPE=image/jpeg:https://thesaddlelightcenter.com/wp-content/uploads/2015/08/Christmas-Party-2013-011.jpg
END:VEVENT
BEGIN:VEVENT
DTSTART;TZID=America/Chicago:20191202T160000
DTEND;TZID=America/Chicago:20200306T200000
DTSTAMP:20260425T090619
CREATED:20190211T062149Z
LAST-MODIFIED:20190225T034033Z
UID:2578-1575302400-1583524800@thesaddlelightcenter.com
SUMMARY:Winter Session
DESCRIPTION:Session Operating Season
URL:https://thesaddlelightcenter.com/event/winter-session-2/
CATEGORIES:Session Operating Season
ATTACH;FMTTYPE=image/jpeg:https://thesaddlelightcenter.com/wp-content/uploads/2015/09/RidersShowCase1520150530_0283-scaled.jpg
END:VEVENT
BEGIN:VEVENT
DTSTART;TZID=America/Chicago:20191125T083000
DTEND;TZID=America/Chicago:20191129T160000
DTSTAMP:20260425T090619
CREATED:20190211T062733Z
LAST-MODIFIED:20190225T041632Z
UID:2586-1574670600-1575043200@thesaddlelightcenter.com
SUMMARY:Thanksgiving Break
DESCRIPTION:Office hours available. \nOffice closed on Sundays.
URL:https://thesaddlelightcenter.com/event/thanksgiving-break/
CATEGORIES:Break + Office Hours
ATTACH;FMTTYPE=image/jpeg:https://thesaddlelightcenter.com/wp-content/uploads/2015/09/RidersShowCase1520150530_0283-scaled.jpg
END:VEVENT
BEGIN:VEVENT
DTSTART;TZID=America/Chicago:20191123T100000
DTEND;TZID=America/Chicago:20191123T130000
DTSTAMP:20260425T090619
CREATED:20190214T044738Z
LAST-MODIFIED:20190902T022926Z
UID:2607-1574503200-1574514000@thesaddlelightcenter.com
SUMMARY:Volunteer Training - November
DESCRIPTION:
URL:https://thesaddlelightcenter.com/event/volunteer-training-november/
CATEGORIES:New Volunteer Training,Training
ATTACH;FMTTYPE=image/jpeg:https://thesaddlelightcenter.com/wp-content/uploads/2015/09/RidersShowCase1520150530_0283-scaled.jpg
END:VEVENT
BEGIN:VEVENT
DTSTART;TZID=America/Chicago:20191119T193000
DTEND;TZID=America/Chicago:20191119T203000
DTSTAMP:20260425T090619
CREATED:20190214T051030Z
LAST-MODIFIED:20190217T041544Z
UID:2641-1574191800-1574195400@thesaddlelightcenter.com
SUMMARY:SLC Board Meeting - November
DESCRIPTION:
URL:https://thesaddlelightcenter.com/event/slc-board-meeting-november/
LOCATION:Holy Trinity Presbyterian Church\, 16245 Nacogdoches Rd\, San Antonio\, TX\, 78247\, United States
CATEGORIES:Board Meeting
ATTACH;FMTTYPE=image/jpeg:https://thesaddlelightcenter.com/wp-content/uploads/2015/09/RidersShowCase1520150530_0283-scaled.jpg
END:VEVENT
BEGIN:VEVENT
DTSTART;TZID=America/Chicago:20191116T150000
DTEND;TZID=America/Chicago:20191116T160000
DTSTAMP:20260425T090619
CREATED:20190214T045452Z
LAST-MODIFIED:20190225T042806Z
UID:2617-1573916400-1573920000@thesaddlelightcenter.com
SUMMARY:Horse Handler Training - November
DESCRIPTION:
URL:https://thesaddlelightcenter.com/event/horse-handler-training-november/
CATEGORIES:Horse Handler Training,Training
ATTACH;FMTTYPE=image/jpeg:https://thesaddlelightcenter.com/wp-content/uploads/2015/09/RidersShowCase1520150530_0283-scaled.jpg
END:VEVENT
BEGIN:VEVENT
DTSTART;TZID=America/Chicago:20191029T100000
DTEND;TZID=America/Chicago:20191029T130000
DTSTAMP:20260425T090619
CREATED:20190214T044651Z
LAST-MODIFIED:20190902T022611Z
UID:2605-1572343200-1572354000@thesaddlelightcenter.com
SUMMARY:Volunteer Training - October
DESCRIPTION:
URL:https://thesaddlelightcenter.com/event/volunteer-training-october/
CATEGORIES:New Volunteer Training,Training
ATTACH;FMTTYPE=image/jpeg:https://thesaddlelightcenter.com/wp-content/uploads/2015/09/RidersShowCase1520150530_0283-scaled.jpg
END:VEVENT
BEGIN:VEVENT
DTSTART;TZID=America/Chicago:20191015T193000
DTEND;TZID=America/Chicago:20191015T203000
DTSTAMP:20260425T090619
CREATED:20190214T050917Z
LAST-MODIFIED:20190217T041551Z
UID:2639-1571167800-1571171400@thesaddlelightcenter.com
SUMMARY:SLC Board Meeting - October
DESCRIPTION:
URL:https://thesaddlelightcenter.com/event/slc-board-meeting-october/
LOCATION:Holy Trinity Presbyterian Church\, 16245 Nacogdoches Rd\, San Antonio\, TX\, 78247\, United States
CATEGORIES:Board Meeting
ATTACH;FMTTYPE=image/jpeg:https://thesaddlelightcenter.com/wp-content/uploads/2015/09/RidersShowCase1520150530_0283-scaled.jpg
END:VEVENT
BEGIN:VEVENT
DTSTART;TZID=America/Chicago:20191006T140000
DTEND;TZID=America/Chicago:20191006T180000
DTSTAMP:20260425T090619
CREATED:20190804T195246Z
LAST-MODIFIED:20190909T024116Z
UID:2759-1570370400-1570384800@thesaddlelightcenter.com
SUMMARY:EquestFest 2019
DESCRIPTION:A Rootin’ Tootin’ Day of Family Fun ! \nEquestFest is our annual festival benefitting The Saddle Light Center for Therapeutic Horsemanship. The funds raised support our horses and equestrian programs. \nRio Cibolo Ranch:  I-10 East to Zuehl Rd\, Exit 595 (7 miles from 1604/I-10 intersection)\, Right on Zuehl 1.5 miles\, Left on Gin to Ulrich\, Right on Ulrich. The entrance to Rio Cibolo Ranch is on the left. Printable map www.riociboloranch.com \nActivities\n\nPony Rides/Petting Zoo\nGames\n Two Tons of Steel Band\nHay Wagon & Story Teller\nMule Team\nFace Painting\nAir Bounce\nFood\nSilent Auction\nTrick Roper\nPerformance by: The San Antonio Charro Association\n\nActivities $1 ea & Pony Rides $3 ea \n\n\n\n		\n				\n						\n			\n				\n			\n		\n							\n			\n				\n						\n			\n				\n			\n		\n							\n			\n				\n						\n			\n				\n			\n		\n							\n			\n				\n						\n			\n				\n			\n		\n							\n			\n				\n						\n			\n				\n			\n		\n							\n			\n				\n						\n			\n				\n			\n		\n							\n			\n				\n						\n			\n				\n			\n		\n							\n			\n				\n						\n			\n				\n			\n		\n							\n			\n				\n						\n			\n				\n			\n		\n							\n			\n				\n						\n			\n				\n			\n		\n							\n			\n				\n						\n			\n				\n			\n		\n							\n			\n				\n						\n			\n				\n			\n		\n							\n			\n				\n						\n			\n				\n			\n		\n							\n			\n				\n						\n			\n				\n			\n		\n							\n			\n				\n						\n			\n				\n			\n		\n							\n			\n				\n						\n			\n				\n			\n		\n							\n			\n				\n						\n			\n				\n			\n		\n							\n			\n				\n						\n			\n				\n			\n		\n							\n			\n				\n						\n			\n				\n			\n		\n							\n			\n				\n						\n			\n				\n			\n		\n							\n			\n	\n	\n\n		\n		[Show slideshow]\n\n	\n	\n		\n		1\n2\n3\n►	\n\nSchedule of Events\n\n\n\n\n	TimeActivity\n\n\n\n\n	2:00 – 6:00 Hay ride\, Mule Team ride\, Face Painting\, Roll-A-Roper\, Air Bounce\, Air Slide\, and Silent Auction. \n\n\n	2:30 – 2:45Welcoming and Introduction by SLC Director.\n\n\n	2:00 – 4:00Pony Rides & Petting Zoo\n\n\n	2:00 – 3:45Music by TWO TONS OF STEEL Band\, main stage\n\n\n	4:00 – 5:00Performance by:  The San Antonio Charro Association and Trick Roper	\n\n\n	5:00 – 6:00Pony Rides\, Petting Zoo\, Hay Ride\, Mule Team Ride\, Face Painting\, Roll-A-Roper\, Air Bounce\, Air Slide and Silent Auction\n\n\n	5:00 – 6:00Music by TWO TONS OF STEEL\, main stage\n\n\n	6:00Closing of Silent Auction.\n\n\n\n\nTickets\nAdvance:\n\nAdults- $8;\nChildren (ages 5-12) -$5\n\nAt the Gate:\n\nAdult- $10;\nChildren (ages 5-12) -$7\n\n  \n\n\n	\n		Your cart is currently empty.	\n	\n		\n			Return to shop		\n	 \n\n \nEquestFest – Flyer 2019 \nLooking to sponsor the event? Learn more here: https://thesaddlelightcenter.com/product/sponsor-an-event/ \nCOME OUT & HORSE AROUND!
URL:https://thesaddlelightcenter.com/event/equestfest-2019/
LOCATION:Rio Cibolo Ranch\, 1101 Ulrich Rd\, Marion\, TX\, 78124\, United States
CATEGORIES:Fundraisers,Special Events
ATTACH;FMTTYPE=image/jpeg:https://thesaddlelightcenter.com/wp-content/uploads/2019/08/EquestFest-header-2019-scaled.jpg
END:VEVENT
BEGIN:VEVENT
DTSTART;TZID=America/Chicago:20190921T100000
DTEND;TZID=America/Chicago:20190921T130000
DTSTAMP:20260425T090619
CREATED:20190214T044552Z
LAST-MODIFIED:20190902T023121Z
UID:2603-1569060000-1569070800@thesaddlelightcenter.com
SUMMARY:Volunteer Training - September
DESCRIPTION:
URL:https://thesaddlelightcenter.com/event/volunteer-training-september/
CATEGORIES:New Volunteer Training,Training
ATTACH;FMTTYPE=image/jpeg:https://thesaddlelightcenter.com/wp-content/uploads/2015/09/RidersShowCase1520150530_0283-scaled.jpg
END:VEVENT
BEGIN:VEVENT
DTSTART;TZID=America/Chicago:20190917T193000
DTEND;TZID=America/Chicago:20190917T203000
DTSTAMP:20260425T090619
CREATED:20190214T050833Z
LAST-MODIFIED:20190217T041621Z
UID:2637-1568748600-1568752200@thesaddlelightcenter.com
SUMMARY:SLC Board Meeting - September
DESCRIPTION:
URL:https://thesaddlelightcenter.com/event/slc-board-meeting-september/
LOCATION:Holy Trinity Presbyterian Church\, 16245 Nacogdoches Rd\, San Antonio\, TX\, 78247\, United States
CATEGORIES:Board Meeting
ATTACH;FMTTYPE=image/jpeg:https://thesaddlelightcenter.com/wp-content/uploads/2015/09/RidersShowCase1520150530_0283-scaled.jpg
END:VEVENT
BEGIN:VEVENT
DTSTART;TZID=America/Chicago:20190914T150000
DTEND;TZID=America/Chicago:20190914T160000
DTSTAMP:20260425T090619
CREATED:20190214T045402Z
LAST-MODIFIED:20190225T042806Z
UID:2615-1568473200-1568476800@thesaddlelightcenter.com
SUMMARY:Horse Handler Training - September
DESCRIPTION:
URL:https://thesaddlelightcenter.com/event/horse-handler-training-september/
CATEGORIES:Horse Handler Training,Training
ATTACH;FMTTYPE=image/jpeg:https://thesaddlelightcenter.com/wp-content/uploads/2015/09/RidersShowCase1520150530_0283-scaled.jpg
END:VEVENT
BEGIN:VEVENT
DTSTART;TZID=America/Chicago:20190909T160000
DTEND;TZID=America/Chicago:20191122T200000
DTSTAMP:20260425T090619
CREATED:20190211T062053Z
LAST-MODIFIED:20190225T033959Z
UID:2576-1568044800-1574452800@thesaddlelightcenter.com
SUMMARY:Fall Session
DESCRIPTION:Session Operating Season
URL:https://thesaddlelightcenter.com/event/fall-session/
CATEGORIES:Session Operating Season
ATTACH;FMTTYPE=image/jpeg:https://thesaddlelightcenter.com/wp-content/uploads/2015/09/RidersShowCase1520150530_0283-scaled.jpg
END:VEVENT
BEGIN:VEVENT
DTSTART;TZID=America/Chicago:20190902T083000
DTEND;TZID=America/Chicago:20190906T160000
DTSTAMP:20260425T090619
CREATED:20190225T035257Z
LAST-MODIFIED:20190225T035257Z
UID:2656-1567413000-1567785600@thesaddlelightcenter.com
SUMMARY:2019 End of Summer Break
DESCRIPTION:Office hours available.
URL:https://thesaddlelightcenter.com/event/2019-end-summer-break-3/
CATEGORIES:Break + Office Hours
ATTACH;FMTTYPE=image/jpeg:https://thesaddlelightcenter.com/wp-content/uploads/2015/09/RidersShowCase1520150530_0283-scaled.jpg
END:VEVENT
BEGIN:VEVENT
DTSTART;TZID=America/Chicago:20190826T083000
DTEND;TZID=America/Chicago:20190831T160000
DTSTAMP:20260425T090619
CREATED:20190225T035133Z
LAST-MODIFIED:20190225T035133Z
UID:2654-1566808200-1567267200@thesaddlelightcenter.com
SUMMARY:2019 End of Summer Break
DESCRIPTION:Office hours available.
URL:https://thesaddlelightcenter.com/event/2019-end-summer-break-2/
CATEGORIES:Break + Office Hours
ATTACH;FMTTYPE=image/jpeg:https://thesaddlelightcenter.com/wp-content/uploads/2015/09/RidersShowCase1520150530_0283-scaled.jpg
END:VEVENT
BEGIN:VEVENT
DTSTART;TZID=America/Chicago:20190820T193000
DTEND;TZID=America/Chicago:20190820T203000
DTSTAMP:20260425T090619
CREATED:20190214T050747Z
LAST-MODIFIED:20190217T041637Z
UID:2635-1566329400-1566333000@thesaddlelightcenter.com
SUMMARY:SLC Board Meeting - August
DESCRIPTION:
URL:https://thesaddlelightcenter.com/event/slc-board-meeting-august/
LOCATION:Holy Trinity Presbyterian Church\, 16245 Nacogdoches Rd\, San Antonio\, TX\, 78247\, United States
CATEGORIES:Board Meeting
ATTACH;FMTTYPE=image/jpeg:https://thesaddlelightcenter.com/wp-content/uploads/2015/09/RidersShowCase1520150530_0283-scaled.jpg
END:VEVENT
END:VCALENDAR